Workbook
Name _1Excel_BuiltIn_Print_Area_1_1_1: 'Abstract- E.E.Meeting'!$A$1:$S$50
Name _2Excel_BuiltIn_Print_Titles_1_1_1_1_1: #REF!
Name _3Excel_BuiltIn_Print_Titles_1_1_1_1_1: #REF!
Name _3Excel_BuiltIn_Print_Titles_1_1_1_1_1: #REF!
Name _4Excel_BuiltIn_Print_Titles_1_1_1_1_1_1: #REF!
Name _5Excel_BuiltIn_Print_Titles_1_1_1_1_1_1: #REF!
Name _5Excel_BuiltIn_Print_Titles_1_1_1_1_1_1: #REF!
Name _6Excel_BuiltIn_Print_Titles_1_1_1_1_1_1_1: #REF!
Name _7Excel_BuiltIn_Print_Titles_1_1_1_1_1_1_1: #REF!
Name _7Excel_BuiltIn_Print_Titles_1_1_1_1_1_1_1: #REF!
Name _8Excel_BuiltIn_Print_Titles_2_1_1: #REF!
Name _8Excel_BuiltIn_Print_Titles_2_1_1: #REF!
Name Excel_BuiltIn_Print_Area_1: 'Abstract- E.E.Meeting'!$A$1:$S$49
Name Excel_BuiltIn_Print_Area_1_1: #REF!
Name Excel_BuiltIn_Print_Area_1_1: #REF!
Name Excel_BuiltIn_Print_Area_1_1_1: #REF!
Name Excel_BuiltIn_Print_Area_1_1_1: #REF!
Name Excel_BuiltIn_Print_Area_1_1_1_1: #REF!
Name Excel_BuiltIn_Print_Area_1_1_1_1: #REF!
Name Excel_BuiltIn_Print_Area_2: #REF!
Name Excel_BuiltIn_Print_Area_2: #REF!
Name Excel_BuiltIn_Print_Area_2_1: #REF!
Name Excel_BuiltIn_Print_Area_2_1: #REF!
Name Excel_BuiltIn_Print_Area_2_1_1: #REF!
Name Excel_BuiltIn_Print_Area_2_1_1: #REF!
Name Excel_BuiltIn_Print_Area_3_1: #REF!
Name Excel_BuiltIn_Print_Area_3_1: #REF!
Name Excel_BuiltIn_Print_Titles_1: #REF!
Name Excel_BuiltIn_Print_Titles_1: #REF!
Name Excel_BuiltIn_Print_Titles_1_1: #REF!
Name Excel_BuiltIn_Print_Titles_1_1: #REF!
Name Excel_BuiltIn_Print_Titles_1_1_1: #REF!
Name Excel_BuiltIn_Print_Titles_1_1_1: #REF!
Name Excel_BuiltIn_Print_Titles_1_1_1: #REF!
Name Excel_BuiltIn_Print_Titles_1_1_1_1: #REF!
Name Excel_BuiltIn_Print_Titles_1_1_1_1: #REF!
Name Excel_BuiltIn_Print_Titles_1_1_1_1: #REF!
Name Excel_BuiltIn_Print_Titles_1_1_1_1_1: #REF!
Name Excel_BuiltIn_Print_Titles_1_1_1_1_1: #REF!
Name Excel_BuiltIn_Print_Titles_1_1_1_1_1: #REF!
Name Excel_BuiltIn_Print_Titles_1_1_1_1_1_1: #REF!
Name Excel_BuiltIn_Print_Titles_1_1_1_1_1_1: #REF!
Name Excel_BuiltIn_Print_Titles_1_1_1_1_1_1: #REF!
Name Excel_BuiltIn_Print_Titles_1_1_1_1_1_1_1: #REF!
Name Excel_BuiltIn_Print_Titles_1_1_1_1_1_1_1: #REF!
Name Excel_BuiltIn_Print_Titles_1_1_1_1_1_1_1: #REF!
Name Excel_BuiltIn_Print_Titles_2: '_MAJOR_Medium _circle._2 (3)'!$A$4:$IR$7
Name Excel_BuiltIn_Print_Titles_2: '_MAJOR_Medium _circle._2 (2)'!$A$4:$IR$7
Name Excel_BuiltIn_Print_Titles_2_1: #REF!
Name Excel_BuiltIn_Print_Titles_2_1: #REF!

Sheet Abstract- E.E.Meeting
A1: ¤ÉÖ±Éb÷ÉhÉÉ {ÉÉ]õ¤ÉÆvÉÉ®äú Ê´É¦ÉÉMÉ, ¤ÉÖ±Éb÷ÉhÉÉ
A2: |É{ÉjÉ -1 ´É 2 ( nèùÊxÉEò ´É ºÉÉ{iÉÉÊ½þEò ) MÉÉä¹É´ÉÉ®úÉ .
A3: +¨É®úÉ´ÉiÉÒ |ÉÉnäùÊ¶ÉEò Ê´É¦ÉÉMÉÉiÉÒ±É ( ¶ÉÉºÉxÉ ´É ¨É½þÉ¨ÉÆb÷³ýÉEòb÷Ò±É) ¨ÉÉä`äö, ¨ÉvªÉ¨É ´É ±ÉPÉÖ {ÉÉ]õ¤ÉÆvÉÉ®äú |ÉEò±{ÉÉÆSÉÉ ÊnùxÉÉÆE 5/07/2014 SÉÉ ={ÉªÉÖCiÉ ºÉÉ`öÉ.
A4: |ÉEò±{ÉÒªÉ ¨ÉÞiÉºÉÉ`öÉ nù.±É.PÉ.¨ÉÒ. | B4: + Gò | C4: |ÉEò±{ÉÉSÉäÆ xÉÉÆ´É | D4: iÉÉ±ÉÖEòÉ | E4: ={ÉªÉÖCiÉºÉÉ`öÉ nù.±É.PÉ.¨ÉÒ (2013) | I4: +ÉVÉSÉÉ {ÉÉ>ðºÉ Ê¨É.Ê¨É. | J4: 1/6/13 {ÉÉºÉÚxÉSÉÉ {ÉÉ>ðºÉ Ê¨É.Ê¨É. | K4: ¨ÉÉMÉÒ±É ´É¹ÉÉÇSÉÒ iªÉÉSÉ ËnùxÉÉEòÉSÉÒ ¨ÉÉÊ½þiÉÒ ( 2012) | N4: ªÉÉSÉ ÊnùxÉÆÉEòÉSÉÉ JÉÉ±ÉÒ±É ´É¹ÉÉÇiÉÒ±É ={ÉªÉÖCiÉ {ÉÉhÉÒºÉÉ`öÉ nù.±É.PÉ.¨ÉÒ | R4: ºÉ®úÉºÉ®úÒ ={ÉªÉÖCiÉ ºÉÉ`öÉ (08iÉä 12) | S4: Ê´ÉºÉMÉÇ PÉ.Ê¨É/ ºÉäEÆònù
E5: |ÉEò±{ÉÒªÉ ºÉÆEò±{ÉÒiÉ ºÉÉ`öÉ | F5: +ÉVÉSÉÒ VÉ±ÉÉ¶ÉªÉ {ÉÉiÉ³ýÒ ¨ÉÒ. | G5: +ÉVÉSÉÉ {ÉÉhÉÒ ºÉÉ`öÉ | H5: ]õCEäò´ÉÉ®úÒ (6/4) x 100
K6: 1-6-12 {ÉÉºÉÚxÉSÉÉ {ÉÉ>ðºÉ Ê¨É.Ê¨É. | L6: ={ÉªÉÖCiÉ {ÉÉhÉÒºÉÉ`öÉ | M6: ]õCEäò´ÉÉ®úÒ | N6: 2008 | O6: 2009 | P6: 2010 | Q6: 2011
B7: 1 | C7: 2 | D7: 3 | E7: 4 | F7: 5 | G7: 6 | H7: 7 | I7: 8 | J7: 9 | K7: 10 | L7: 11 | M7: 12 | N7: 13 | O7: 14 | P7: 15 | Q7: 16 | R7: 17 | S7: 18
C8: (¶ÉÉºÉxÉ ºiÉ®úÉ´É®úÒ±É ) |ÉEò±{É)
B9: (+) | C9: ¨ÉÉä`äö |ÉEò±{É
A10: 2.54 | B10: 1 | C10: xÉ³ýMÉÆMÉÉ | D10: ¨ÉÉäiÉÉ³ýÉ | E10: 69.32 | F10: 288.47 | G10: 22.25 | H10: =(G10/E10)*100 -> 32.097519 | I10: 0 | J10: 4 | K10: 279 | L10: 9.98 | M10: =L10/E10*100 -> 14.396999 | N10: 3.05 | O10: 5.42 | P10: 14.02 | Q10: 9.93 | R10: =AVERAGE(+L10+N10+O10+P10+Q10)/5 -> 8.48 | S10: 0
A11: 7.38 | B11: 2 | C11: {ÉäxÉ]õÉEò³ýÒ(¨É.¨ÉÆÆý) | D11: ¨Éä½þEò®ú | E11: 59.97 | F11: 553.45 | G11: 17.32 | H11: =(G11/E11)*100 -> 28.881107 | I11: 0 | J11: 68 | K11: 254 | L11: 0 | M11: =L11/E11*100 -> 0 | N11: 0 | O11: 0 | P11: 22.87 | Q11: 0.14 | R11: =AVERAGE(+L11+N11+O11+P11+Q11)/5 -> 4.602 | S11: 0
A12: 67.206 | B12: 3 | C12: JÉb÷Eò{ÉÖhÉÇÉ (¨É.¨ÉÆÆý) | D12: nùä.®úÉVÉÉ | E12: 114.631 | F12: 518.47 | G12: 61.42 | H12: =(G12/E12)*100 -> 53.58062 | I12: 0 | J12: 25 | K12: 198 | L12: 0 | M12: =L12/E12*100 -> 0 | N12: 0 | O12: 24.4 | P12: 13.46 | Q12: 0 | R12: =AVERAGE(+L12+N12+O12+P12+Q12)/5 -> 7.572 | S12: 0
A13: =SUM(A10:A12) -> 77.126 | C13: BEÖòhÉ iÉÒxÉ ¨ÉÉä`äö |ÉEò±{É | E13: =SUM(E10:E12) -> 243.921 | F13: 0 | G13: =SUM(G10:G12) -> 100.99 | H13: =(G13/E13)*100 -> 41.402749 | I13: 0 | J13: 0 | K13: 0 | L13: =SUM(L10:L12) -> 9.98 | M13: =L13/E13*100 -> 4.0914886 | N13: =SUM(N10:N12) -> 3.05 | O13: =SUM(O10:O12) -> 29.82 | P13: =SUM(P10:P12) -> 50.35 | Q13: =SUM(Q10:Q12) -> 10.07 | R13: =AVERAGE(+L13+N13+O13+P13+Q13)/5 -> 20.654
B14: (¤É) | C14: ¨ÉvªÉ¨É |ÉEò±{É
A15: 1.63 | B15: 1 | C15: {É±ÉføMÉ | D15: ¨ÉÉäiÉÉ³ýÉ | E15: 7.51 | F15: 398.35 | G15: 1.53 | H15: =(G15/E15)*100 -> 20.372836 | I15: 0 | J15: 20 | K15: 190 | L15: 1.19 | M15: =L15/E15*100 -> 15.845539 | N15: 1.15 | O15: 2.02 | P15: 0.01 | Q15: 0.18 | R15: =AVERAGE(+L15+N15+O15+P15+Q15)/5 -> 0.91 | S15: 0
A16: 2.33 | B16: 2 | C16: YÉÉÆxÉMÉÆMÉÉ | D16: JÉÉ¨ÉMÉÉÆ´É | E16: 33.93 | F16: 398 | G16: 14.39 | H16: =(G16/E16)*100 -> 42.410846 | I16: 0 | J16: 0 | K16: 171 | L16: 5.46 | M16: =L16/E16*100 -> 16.091954 | N16: 2.55 | O16: 2.45 | P16: 10.79 | Q16: 4.28 | R16: =AVERAGE(+L16+N16+O16+P16+Q16)/5 -> 5.106 | S16: 0
A17: 2.46 | B17: 3 | C17: ¨ÉºÉ | D17: JÉÉ¨ÉMÉÉÆ´É | E17: 15.04 | F17: 321.35 | G17: 4.2 | H17: =(G17/E17)*100 -> 27.925532 | I17: 0 | J17: 25 | K17: 183 | L17: 1.55 | M17: =L17/E17*100 -> 10.305851 | N17: 0 | O17: 5.12 | P17: 1.32 | Q17: 2.59 | R17: =AVERAGE(+L17+N17+O17+P17+Q17)/5 -> 2.116 | S17: 0
A18: 7.46 | B18: 4 | C18: EòÉä®úÉb÷Ò | D18: ¨Éä½þEò®ú | E18: 15.12 | F18: 543.4 | G18: 7.34 | H18: =(G18/E18)*100 -> 48.544974 | I18: 0 | J18: 70 | K18: 146 | L18: 0 | M18: =L18/E18*100 -> 0 | N18: 0 | O18: 0 | P18: 0.27 | Q18: 0 | R18: =AVERAGE(+L18+N18+O18+P18+Q18)/5 -> 0.054 | S18: 0
C19: EòÉä.{É.¤É | D19: ¨Éä½þEò®ú | E19: 5.58 | F19: 0 | G19: 0 | H19: =(G19/E19)*100 -> 0 | I19: 0 | J19: 0 | K19: 0 | L19: 0 | M19: =L19/E19*100 -> 0 | N19: 0 | O19: 0 | P19: 0 | Q19: 0 | R19: =AVERAGE(+L19+N19+O19+P19+Q19)/5 -> 0
A20: 5.65 | B20: 5 | C20: ¨ÉxÉ(¨É½þÉ.¨ÉÆý) | D20: JÉÉ¨ÉMÉÉÆ´É | E20: 36.83 | F20: 365.65 | G20: 7.18 | H20: =(G20/E20)*100 -> 19.494977 | I20: 0 | J20: 20 | K20: 275 | L20: 6.57 | M20: =L20/E20*100 -> 17.838718 | N20: 0 | O20: 3.85 | P20: 1.86 | Q20: 5.06 | R20: =AVERAGE(+L20+N20+O20+P20+Q20)/5 -> 3.468
A21: 0.58 | B21: 6 | C21: iÉÉä®úhÉÉ(¨É½þÉ.¨ÉÆ ) | D21: JÉÉ¨ÉMÉÉÆ´É | E21: 7.89 | F21: 402.45 | G21: 1.31 | H21: =(G21/E21)*100 -> 16.603295 | I21: 0 | J21: 7 | K21: 324 | L21: 1.42 | M21: =L21/E21*100 -> 17.997465 | N21: 0.58 | O21: 1.52 | P21: 0 | Q21: 0.62 | R21: =AVERAGE(+L21+N21+O21+P21+Q21)/5 -> 0.828 | S21: 0
A22: 1.01 | B22: 7 | C22: =iÉÉ´É³ýÒ(¨É½þÉ.¨É) | D22: JÉÉ¨ÉMÉÉÆ´É | E22: 19.79 | F22: 363.85 | G22: 3.87 | H22: =(G22/E22)*100 -> 19.555331 | I22: 0 | J22: 39 | K22: 265 | L22: 4.68 | M22: =L22/E22*100 -> 23.648307 | N22: 4.12 | O22: 5.38 | P22: 1.58 | Q22: 0.73 | R22: =AVERAGE(+L22+N22+O22+P22+Q22)/5 -> 3.298 | S22: 0
A23: =SUM(A15:A22) -> 21.12 | C23: BEÖòhÉ ¨ÉvªÉ¨É |ÉEò±{É-7 | E23: =SUM(E15:E22) -> 141.69 | F23: 0 | G23: =SUM(G15:G22) -> 39.82 | H23: =(G23/E23)*100 -> 28.103606 | I23: 0 | K23: 0 | L23: =SUM(L15:L22) -> 20.87 | M23: =L23/E23*100 -> 14.729339 | N23: =SUM(N15:N22) -> 8.4 | O23: =SUM(O15:O22) -> 20.34 | P23: =SUM(P15:P22) -> 15.83 | Q23: =SUM(Q15:Q22) -> 13.46 | R23: =AVERAGE(+L23+N23+O23+P23+Q23)/5 -> 15.78
A24: 5.57 | C24: BEÖòhÉ ¨É½þÉ¨ÉÆb÷³ý -7 | E24: =+#REF! -> #REF! | F24: 0 | G24: =+#REF! -> #REF! | H24: =(G24/E24)*100 -> #REF! | I24: 0 | J24: 0 | K24: 0 | L24: =+#REF! -> #REF! | M24: =+#REF! -> #REF! | N24: =+#REF! -> #REF! | O24: =+#REF! -> #REF! | P24: =+#REF! -> #REF! | Q24: =+#REF! -> #REF! | R24: =+#REF! -> #REF!
A25: 15.32 | B25: BEÖòhÉ ±ÉPÉÖ |ÉEò±{É 74 (¶ÉÉºÉxÉ) | E25: =+#REF! -> #REF! | F25: 0 | G25: =+#REF! -> #REF! | H25: =+#REF! -> #REF! | I25: 0 | J25: 0 | K25: 0 | L25: =+#REF! -> #REF! | M25: =+#REF! -> #REF! | N25: =+#REF! -> #REF! | O25: =+#REF! -> #REF! | P25: =+#REF! -> #REF! | Q25: =+#REF! -> #REF! | R25: =+#REF! -> #REF!
A26: =(A25+A24+A23+A13) -> 119.136 | B26: BEÖòhÉ ¤ÉÖ±Éb÷ÉhÉÉ ÊVÉ±½þÉ- 91 | E26: =E13+E23+E24+E25 -> #REF! | F26: =F13+F23+F24+F25 -> 0 | G26: =G13+G23+G24+G25 -> #REF! | H26: =(G26/E26)*100 -> #REF! | I26: 0 | J26: =SUM(J10:J25)/10 -> 27.8 | K26: =SUM(K10:K25)/10 -> 228.5 | L26: =L13+L23+L24+L25 -> #REF! | M26: =L26/E26*100 -> #REF! | N26: =N13+N23+N24+N25 -> #REF! | O26: =O13+O23+O24+O25 -> #REF! | P26: =P13+P23+P24+P25 -> #REF! | Q26: =Q13+Q23+Q24+Q25 -> #REF! | R26: =AVERAGE(+L26+N26+O26+P26+Q26)/5 -> #REF!
I27: 116 % 74 %
C28: VÉÉ.Gò./..................../VÉ{ÉÉ+/ºÉÉ.+./2013 | P28: ¤ÉÖ±Éb÷ÉhÉÉ {ÉÉ]õ¤ÉÆvÉÉ®äú Ê´É¦ÉÉMÉ,¤ÉÖ±Éb÷ÉhÉÉ
C29: |ÉÊiÉ±ÉÒ{ÉÒ 1) ¨ÉÉ.¨ÉÖJªÉ +Ê¦ÉªÉÆiÉÉ VÉ±ÉºÉÆ{ÉnùÉ,Ê´É¦ÉÉMÉ, +¨É®úÉ´ÉiÉÒ, 2)¨ÉÉ.¨ÉÖJªÉ +Ë¦ÉªÉÆiÉÉ,Ê´É¶Éä¹É |ÉEò±{É VÉ±ÉºÉÆ{ÉnùÉ Ê´É¦ÉÉMÉ,ËºÉSÉxÉ ºÉä´ÉÉ ¦É´ÉxÉ,Ê¶É´ÉÉVÉÒ xÉMÉ®ú,+¨É®úÉ´ÉiÉÒ | P29: ÊnùxÉÉÆEò 05 /7/2014
C30: 3)¨ÉÉ.+vÉÒIÉEò +Ê¦ÉªÉÆiÉÉ +EòÉä±ÉÉ /¤ÉÖ±Éb÷ÉhÉÉ, 4)ÊVÉ±½þÉÊvÉEòÉ®úÒ ({ÉÉhÉÒ ]ÆõSÉÉ<Ç Ê´É¦ÉÉMÉ ¤ÉÖ±Éb÷ÉhÉÉ,), 5)ÊVÉ±½þÉ EÞò¹ÉÒ +ÊvÉIÉEò, ¤ÉÖ±Éb÷ÉhÉÉ,
C31: 6)ÊVÉ±½þÉ ¨ÉiºªÉ +ÊvÉEòÉ®úÒ, ¤ÉÖ±Éb÷ÉhÉÉ, 7) EòÉªÉÇEòÉ®úÒ +Ê¦ÉªÉÆiÉÉ, ¨É.ÊVÉ.|ÉÉvÉÒEò®úhÉ ¤ÉÉÆvÉEòÉ¨É Ê´É¦ÉÉMÉ ¤ÉÖ±Éb÷ÉhÉÉ, 8) ¨É½þÉ®úÉ¹]Åõ VÉ±ÉºÉÆ{ÉkÉÒ Ê´ÉEòÉºÉ Eäòpù +Éè®ÆúMÉÉ¤ÉÉnù
C32: 9)ÊVÉ±½þÉ ¨ÉÉÊ½þiÉÒ +ÊvÉEòÉ®úÒ ¤ÉÖ±Éb÷ÉhÉÉ. ªÉÉÆxÉÉ ¨ÉÉÊ½þiÉÒºiÉ´É ºÉÉnù®ú/ ºÉ¨ÉÉnù®úÉxÉä +OÉäÊ¹ÉiÉ. 10)ËºÉSÉxÉ ¶ÉÉJÉÉ Ê´É¦ÉÉMÉÒªÉ EòÉªÉÉÇ±ÉªÉ.
Q33: EòÉªÉÇEòÉ®úÒ +Ê¦ÉªÉÆiÉÉ
F34: MÉÉä¹É´ÉÉ®úÉ | Q34: ¤ÉÖ±Éb÷ÉhÉÉ {ÉÉ]õ¤ÉÆvÉÉ®äú Ê´É¦ÉÉMÉ ¤ÉÖ±Éb÷ÉhÉÉ
F35: ¶ÉÉºÉxÉ / ¨É½þÉ¨ÉÆb÷³ý
F36: |ÉEò±{ÉÉSÉÉ |ÉEòÉ®ú | H36: ºÉÆJªÉÉ | J36: BEÖòhÉ ={ÉªÉÖCiÉ ={É±É¤vÉ ºÉÉ`É (nù.±É.PÉ.¨ÉÒ.) | L36: BEÖòhÉ ]õCEäò´ÉÉ®Ò %
F37: ¨ÉÉä`äö |ÉEò±{É | H37: 3 | J37: =G13 -> 100.99 | L37: =H13 -> 41.402749
F38: ¨ÉvªÉ¨É |ÉEò±{É | H38: 7 | J38: =G23 -> 39.82 | L38: =H23 -> 28.103606
F39: ±ÉPÉÖ |ÉEò±{É | H39: 81 | J39: =G24+G25 -> #REF! | K39: =H24+H25 -> #REF! | L39: 86.41
F40: BEÖòhÉ | H40: =+H37+H38+H39 -> 91 | I40: =+I37+I38+I39 -> 0 | J40: =+J37+J38+J39 -> #REF! | L40: =+H26 -> #REF!
C42: MÉÉä¹É´ÉÉ®úÉ
C43: ¶ÉÉºÉxÉ | I43: ¨É½þÉ¨ÉÆb÷³ý | M43: BEÖòhÉ ¤ÉÖ±Éb÷ÉhÉÉ ÊVÉ±½É
C44: ]õCEäò´ÉÉ®Ò | E44: ¨ÉÉä`äö | F44: ¨ÉvªÉ¨É | G44: ±É.{ÉÉ. | H44: BEÖòhÉ | I44: ¨ÉÉä`äö | J44: ¨ÉvªÉ¨É | K44: ±É.{ÉÉ. | L44: BEÖòhÉ | M44: ¨ÉÉä`äö | N44: ¨ÉvªÉ¨É | O44: ±É.{ÉÉ. | P44: BEÖòhÉ
C45: 100 ]õCEäò ¦É®ú±Éä±Éä |ÉEò±{É | E45: 1 | F45: 4 | G45: 59 | H45: =SUM(E45:G45) -> 64 | I45: 2 | J45: 3 | K45: 4 | L45: =SUM(I45:K45) -> 9 | M45: =I45+E45 -> 3 | N45: =J45+F45 -> 7 | O45: =K45+G45 -> 63 | P45: =SUM(M45:O45) -> 73
C46: 50 ]õCEäò {ÉäIÉÉ VÉÉºiÉ | E46: 0 | F46: 0 | G46: 12 | H46: =SUM(E46:G46) -> 12 | I46: 0 | J46: 0 | K46: 2 | L46: =SUM(I46:K46) -> 2 | M46: =I46+E46 -> 0 | N46: =J46+F46 -> 0 | O46: =K46+G46 -> 14 | P46: =SUM(M46:O46) -> 14
C47: 50 ]õCEäò {ÉäIÉÉ Eò¨ÉÒ | E47: 0 | F47: 0 | G47: 3 | H47: =SUM(E47:G47) -> 3 | I47: 0 | J47: 0 | K47: 1 | L47: =SUM(I47:K47) -> 1 | M47: =I47+E47 -> 0 | N47: =J47+F47 -> 0 | O47: =K47+G47 -> 4 | P47: =SUM(M47:O47) -> 4
C48: BEÖòhÉ | E48: =SUM(E45:E47) -> 1 | F48: =SUM(F45:F47) -> 4 | G48: =SUM(G45:G47) -> 74 | H48: =SUM(H45:H47) -> 79 | I48: =SUM(I45:I47) -> 2 | J48: =SUM(J45:J47) -> 3 | K48: =SUM(K45:K47) -> 7 | L48: =SUM(L45:L47) -> 12 | ... P48: =SUM(P45:P47) -> 91

Sheet _MAJOR_Medium _circle._2 (3)
A1: बुलडाणा पाटबंधारे विभाग, बुलडाणा
A2: प्रपत्र - 1 व 2 (दैनिक व साप्ताहिक) गोषवारा
A3: अमरावती प्रादेशिक विभागातील (शासन व महामंडळाकडील) मोठे, मध्यम व लघु पाटबंधारे प्रकल्पांचा दि.22/12/2022 चा उपयुक्त साठा.
A4: प्रकल्पीय मृतसाठा द.ल.घ.मी. | B4: अ. क्र. | C4: प्रकल्पाचे नाव | D4: तालुका | E4: उपयुक्त पाणीसाठा द.ल.घ.मी.(2022) | J4: आजचा पाऊस मि.मी. | K4: 1/6/22 पासुनचा पाऊस मि.मी. | L4: मागील वर्षीची त्याच दिनांकाची माहिती (2021) | O4: याच दिनांकाचा खालील वर्षातील उपयुक्त पाणीसाठा द.ल.घ.मी. | S4: सरासरी उपयुक्त साठा (12 + 14 ते 17) | T4: शेरा मृतसाठा /विसर्ग -घ.मी./से.
E5: प्रकल्पीय संकल्पीत साठा | F5: पुर्ण संयच पातळी मी. | G5: आजची जलाशय पातळी मी. | H5: आजचा पाणीसाठा | I5: टक्केवारी (7/4) x 100
L6: 1/06/21 पासुनचा पाऊस मि.मी. | M6: उपयुक्त पाणीसाठा दलघमी | N6: टक्केवारी | O6: 2017 | P6: 2018 | Q6: 2019 | R6: 2020
B7: 1 | C7: 2 | D7: 3 | E7: 4 | F7: 5 | G7: 6 | H7: 7 | I7: 8 | J7: 9 | K7: 10 | L7: 11 | M7: 12 | N7: 13 | O7: 14 | P7: 15 | Q7: 16 | R7: 17 | S7: 18 | T7: 19
C8: शासन स्तरावरील प्रकल्प
B9: (अ) | C9: मोठे प्रकल्प
A10: 2.54 | B10: 1 | C10: नळगंगा | D10: मोताळा | E10: 69.32 | F10: 294.44 | G10: 293.08 | H10: 55.78 | I10: =H10/E10*100 -> 80.467398 | J10: 0 | K10: 388 | L10: 458 | M10: 68.74 | N10: =SUM(M10*100/E10) -> 99.163301 | O10: 22.65 | P10: 9.42 | Q10: 69.32 | R10: 61.81 | S10: =AVERAGE(+M10+O10+P10+Q10+R10)/5 -> 46.388 | T10: -
A11: 67.2 | B11: 2 | C11: खडकपूर्णा | D11: दे.राजा | E11: 93.4 | F11: 520.5 | G11: 520.26 | H11: 86.43 | I11: =H11/E11*100 -> 92.537473 | J11: 0 | K11: 875 | L11: 713 | M11: 92.82 | N11: =SUM(M11*100/E11) -> 99.379015 | O11: 9 | P11: 0 | Q11: 93.4 | R11: 76.47 | S11: =AVERAGE(+M11+O11+P11+Q11+R11)/5 -> 54.338 | T11: -
A12: 7.38 | B12: 3 | C12: पेनटाकळी | D12: मेहकर | E12: 59.97 | F12: 558.5 | G12: 557.85 | H12: 52.65 | I12: =H12/E12*100 -> 87.793897 | J12: 0 | K12: 1029 | L12: 1075 | M12: 57.07 | N12: =SUM(M12*100/E12) -> 95.164249 | O12: 18.95 | P12: 4.84 | Q12: 59.97 | R12: 49.58 | S12: =AVERAGE(+M12+O12+P12+Q12+R12)/5 -> 38.082 | T12: -
A13: =SUM(A10:A12) -> 77.12 | C13: एकुण मोठे प्रकल्प-3 | E13: =SUM(E10:E12) -> 222.69 | H13: =SUM(H10:H12) -> 194.86 | I13: =(H13/E13)*100 -> 87.502807 | J13: 0 | K13: 0 | L13: 0 | M13: =SUM(M10:M12) -> 218.63 | N13: =M13/E13*100 -> 98.176838 | O13: =SUM(O10:O12) -> 50.6 | P13: =SUM(P10:P12) -> 14.26 | Q13: =SUM(Q10:Q12) -> 222.69 | R13: =SUM(R10:R12) -> 187.86 | S13: =AVERAGE(+M13+O13+P13+Q13+R13)/5 -> 138.808
B14: (ब) | C14: मध्यम प्रकल्प | S14: =AVERAGE(+M14+O14+P14+Q14+R14)/5 -> 0
A15: 2.33 | B15: 1 | C15: ज्ञानगंगा | D15: खामगाव | E15: 33.93 | F15: 404.9 | G15: 404.65 | H15: 32.79 | I15: =H15/E15*100 -> 96.640141 | J15: 0 | K15: 780 | L15: 635 | M15: 32.79 | N15: =SUM(M15*100/E15) -> 96.640141 | O15: 17.48 | P15: 5.69 | Q15: 33.93 | R15: 31.58 | S15: =AVERAGE(+M15+O15+P15+Q15+R15)/5 -> 24.294 | T15: -
A16: 2.08 | B16: 2 | C16: मस | D16: खामगाव | E16: 15.04 | F16: 324.5 | G16: 324.25 | H16: 13.9 | I16: =H16/E16*100 -> 92.420213 | J16: 0 | K16: 781 | L16: 650 | M16: 14.58 | N16: =SUM(M16*100/E16) -> 96.941489 | O16: 2.59 | P16: 0 | Q16: 15.04 | R16: 13.68 | S16: =AVERAGE(+M16+O16+P16+Q16+R16)/5 -> 9.178 | T16: -
A17: 7.46 | B17: 3 | C17: कोराडी | D17: मेहकर | E17: 15.12 | F17: 545.25 | G17: 545.25 | H17: 15.12 | I17: =H17/E17*100 -> 100 | J17: 0 | K17: 1071 | L17: 1105 | M17: 15.12 | N17: =SUM(M17*100/E17) -> 100 | O17: 2.69 | P17: 0 | Q17: 15.12 | R17: 15.12 | S17: =AVERAGE(+M17+O17+P17+Q17+R17)/5 -> 9.61 | T17: -
C18: कोराडी को.प.बं. | D18: मेहकर | E18: 5.58 | F18: 546.15 | G18: 546 | H18: 3.87 | I18: =H18/E18*100 -> 69.354839 | M18: 3.34 | N18: =SUM(M18*100/E18) -> 59.856631 | O18: 0 | P18: 0 | Q18: 2.32 | R18: 1.54 | S18: =AVERAGE(+M18+O18+P18+Q18+R18)/5 -> 1.44 | T18: -
A19: 1.63 | B19: 4 | C19: पलढग | D19: मोताळा | E19: 7.51 | F19: 403.2 | G19: 403.15 | H19: 7.44 | I19: =H19/E19*100 -> 99.067909 | J19: 0 | K19: 621 | L19: 847 | M19: 7.46 | N19: =SUM(M19*100/E19) -> 99.334221 | O19: 6.98 | P19: 1.86 | Q19: 7.51 | R19: 7.28 | S19: =AVERAGE(+M19+O19+P19+Q19+R19)/5 -> 6.218 | T19: -
A20: 5.65 | B20: 5 | C20: मन | D20: खामगाव | E20: 36.83 | F20: 374.6 | G20: 373.9 | H20: 33.68 | I20: =H20/E20*100 -> 91.44719 | J20: 0 | K20: 952 | L20: 913 | M20: 35.7 | N20: =SUM(M20*100/E20) -> 96.931849 | O20: 6.27 | P20: 8 | Q20: 36.83 | R20: 34.57 | S20: =AVERAGE(+M20+O20+P20+Q20+R20)/5 -> 24.274 | T20: -
A21: 0.58 | B21: 6 | C21: तोरणा | D21: खामगाव | E21: 7.89 | F21: 408.75 | G21: 408.45 | H21: 7.44 | I21: =H21/E21*100 -> 94.296578 | J21: 0 | K21: 952 | L21: 867 | M21: 7.66 | N21: =SUM(M21*100/E21) -> 97.084918 | O21: 2.01 | P21: 0.75 | Q21: 7.89 | R21: 7.13 | S21: =AVERAGE(+M21+O21+P21+Q21+R21)/5 -> 5.088 | T21: -
A22: 1.02 | B22: 7 | C22: उतावळी | D22: मेहकर | E22: 19.79 | F22: 370.5 | G22: 370.25 | H22: 18.89 | I22: =H22/E22*100 -> 95.452249 | J22: 0 | K22: 1027 | L22: 993 | M22: 19.07 | N22: =SUM(M22*100/E22) -> 96.361799 | O22: 6.45 | P22: 7.19 | Q22: 19.79 | R22: 18.59 | S22: =AVERAGE(+M22+O22+P22+Q22+R22)/5 -> 14.218 | T22: -
A23: =SUM(A15:A22) -> 20.75 | B23: एकुण मध्यम प्रकल्प-7 | E23: =SUM(E15:E22) -> 141.69 | H23: =SUM(H15:H22) -> 133.13 | I23: =H23/E23*100 -> 93.958642 | M23: =SUM(M15:M22) -> 135.72 | N23: =M23/E23*100 -> 95.786576 | O23: =SUM(O15:O22) -> 44.47 | P23: =SUM(P15:P22) -> 23.49 | Q23: =SUM(Q15:Q22) -> 138.43 | R23: =SUM(R15:R22) -> 129.49 | S23: =SUM(S15:S22) -> 94.32
A24: ='M I P 2_2 (2)'!A46 -> 13.61 | B24: एकुण लघु प्रकल्प-37 | E24: ='M I P 2_2 (2)'!E46 -> 99.31 | H24: ='M I P 2_2 (2)'!H46 -> 75.588 | I24: =H24/E24*100 -> 76.113181 | M24: ='M I P 2_2 (2)'!M46 -> 78.21 | N24: =M24/E24*100 -> 78.753398 | O24: ='M I P 2_2 (2)'!O46 -> 26.8 | P24: ='M I P 2_2 (2)'!P46 -> 14.94 | Q24: ='M I P 2_2 (2)'!Q46 -> 83.72 | R24: ='M I P 2_2 (2)'!R46 -> 70.12 | S24: =AVERAGE(+M24+O24+P24+Q24+R24)/5 -> 54.758
B25: एकुण को.प.बंधारे-4 | E25: =KTW!H12 -> 4.3 | H25: =KTW!K12 -> 2.3 | I25: =H25/E25*100 -> 53.488372
B26: एकुण लघु व को.प.बंधारे प्रकल्प-41 | E26: =SUM(E24:E25) -> 103.61 | H26: =SUM(H24:H25) -> 77.888 | I26: =(H26/E26)*100 -> 75.174211
A27: =+A13+A23+A24 -> 111.48 | B27: एकुण बुलडाणा -51 | E27: =+E13+E23+E24+E25 -> 467.99 | H27: =+H13+H23+H24+H25 -> 405.878 | I27: =(H27/E27)*100 -> 86.727922 | M27: =+M13+M23+M24 -> 432.56 | N27: =M27/E27*100 -> 92.429325 | O27: =+O13+O23+O24 -> 121.87 | P27: =+P13+P23+P24 -> 52.69 | Q27: =+Q13+Q23+Q24 -> 444.84 | R27: =+R13+R23+R24 -> 387.47 | S27: =+S13+S23+S24 -> 287.886
A28: "ई-मेलद्वारे''
A29: जा.क्र. 5898 /जलाशय पा.अह./2022 | N29: बुलडाणा पाटबंधारे विभाग, बुलडाणा
A30: प्रतिलिपी :-(1) मा.मुख्य अभियंता, जलसंपदा विभाग, अमरावती, (2) मा.मुख्य अभियंता (वि.प्र.) जलसंपदा विभाग, अमरावती | N30: दिनांक 22/12/2022
A31: (3) मा.अधीक्षक अभियंता, अकोला सिंचन मंडळ, अकोला, (4) मा.अधीक्षक अभियंता, बुलडाणा पाटबंधारे प्रकल्प मंडळ, बुलडाणा
A32: (5) मा.जिल्हाधिकारी (पाणी टंचाई विभाग) बुलडाणा
O33: कार्यकारी अभियंता
O34: बुलडाणा पाटबंधारे विभाग, बुलडाणा

Sheet M I P 2_2 (2)
B1: ¨ÉÖJªÉ +Ê¦ÉªÉÆiÉÉ VÉ±ÉºÉÆ{ÉnùÉ Ê´É¦ÉÉMÉ, +¨É®úÉ´ÉiÉÒ
A2: ÊVÉ±½þÉ -¤ÉÖ±Éb÷ÉhÉÉ | D2: ¤ÉÖ±Éb÷ÉhÉÉ ÊVÉ±½þªÉÉiÉÒ±É ±ÉPÉÖ {ÉÉ]õ¤ÉÆvÉÉ®äú |ÉEò±{ÉÉÆSÉÉ ={ÉªÉÖCiÉ {ÉÉhÉÒ ºÉÉ`öÒ ´É VÉ±ÉÉ¶ÉªÉ {ÉÉiÉ³ýÒ - +½þ´ÉÉ±É
A3: +¨É®úÉ´ÉiÉÒ |ÉÉnäùÊ¶ÉEò Ê´É¦ÉÉMÉÉiÉÒ±É ( ¶ÉÉºÉxÉ ´É ¨É½þÉ¨ÉÆb÷³ýÉEòb÷Ò±É) ¨ÉÉä`äö, ¨ÉvªÉ¨É ´É ±ÉPÉÖ {ÉÉ]õ¤ÉÆvÉÉ®äú |ÉEò±{ÉÉÆSÉÉ ÊnùxÉÉÆE 22/12/2022 SÉÉ ={ÉªÉÖCiÉ ºÉÉ`öÉ.
A4: ò|ÉEò±{ÉÒªÉ ¨ÉÞiÉ ºÉÉ`öÉ nù±ÉPÉ¨ÉÒ | B4: + Gò | C4: |ÉEò±{ÉÉSÉäÆ xÉÉÆ´É | D4: iÉÉ±ÉÖEòÉ | E4: ={ÉªÉÖCiÉºÉÉ`öÉ nù.±É.PÉ.¨ÉÒ (2022) | J4: +ÉVÉSÉÉ {ÉÉ>ðºÉ Ê¨É.Ê¨É. | K4: 1/6/22 {ÉÉºÉÚxÉSÉÉ {ÉÉ>ðºÉ Ê¨É.Ê¨É. | L4: ¨ÉÉMÉÒ±É ´É¹ÉÉÇSÉÒ iªÉÉSÉ ËnùxÉÉEòÉSÉÒ ¨ÉÉÊ½þiÉÒ (2021) | O4: ªÉÉSÉ ÊnùxÉÆÉEòÉSÉÉ JÉÉ±ÉÒ±É ´É¹ÉÉÇiÉÒ±É ={ÉªÉÖCiÉ {ÉÉhÉÒºÉÉ`öÉ nù.±É.PÉ.¨ÉÒ | S4: ºÉ®úÉºÉ®úÒ ={ÉªÉÖCiÉ ºÉÉ`öÉ (12 + 14 iÉä 17) | T4: Ê´ÉºÉMÉÇ PÉ.¨ÉÒ./ºÉä.
E5: |ÉEò±{ÉÒªÉ ºÉÆEò±{ÉÒiÉ {ÉÉhÉÒºÉÉ`öÉ (nù±ÉPÉ¨ÉÒ) | F5: {ÉÖhÉÇ ºÉÆSÉªÉ {ÉÉiÉ³ýÒ ¨ÉÒ. | G5: +ÉVÉSÉÒ VÉ±ÉÉ¶ÉªÉ {ÉÉiÉ³ýÒ (¨ÉÒ). | H5: +ÉVÉSÉÉ {ÉÉhÉÒ ºÉÉ`öÉ (nù±ÉPÉ¨ÉÒ) | I5: ]õCEäò´ÉÉ®úÒ (6/4) x 100
L6: 1-6-21 {ÉÉºÉÚxÉSÉÉ {ÉÉ>ðºÉ Ê¨É.Ê¨É. | M6: ={ÉªÉÖCiÉ {ÉÉhÉÒºÉÉ`öÉ (nù±ÉPÉ¨ÉÒ) | N6: ]õCEäò´ÉÉ®úÒ (11/4) x 100 | O6: 2017 | P6: 2018 | Q6: 2019 | R6: 2020
A7: 0 | B7: 1 | C7: 2 | D7: 3 | E7: 4 | F7: 5 | G7: 6 | H7: 7 | I7: 8 | J7: 9 | K7: 10 | L7: 11 | M7: 12 | N7: 13 | O7: 14 | P7: 15 | Q7: 16 | R7: 17 | S7: 18 | T7: 19
A8: (Eò) | C8: ±ÉPÉÖ {ÉÉ]õ¤ÉÆvÉÉ®äú |ÉEò±{É
A9: 0.09 | B9: 1 | C9: vÉÉxÉÉä®úÉ | D9: VÉ³ýMÉÉÆ´É VÉÉ¨ÉÉänù | E9: 0.89 | F9: 137.5 | G9: 137.15 | H9: 0.82 | I9: =H9/E9*100 -> 92.134831 | J9: 0 | K9: 1112 | L9: 401 | M9: 0.85 | N9: =SUM(M9/E9)*100 -> 95.505618 | O9: 0.41 | P9: 0.12 | Q9: 0.84 | R9: 0.68 | S9: =(M9+O9+P9+Q9+R9)/5 -> 0.58
A10: 0.12 | B10: 2 | C10: MÉÉäb÷Éb÷É | D10: VÉ³ýMÉÉÆ´É VÉÉ¨ÉÉänù | E10: 1.77 | F10: 97.2 | G10: 96.8 | H10: 1.63 | I10: =H10/E10*100 -> 92.090395 | J10: 0 | K10: 1025 | L10: 401 | M10: 1.65 | N10: =SUM(M10/E10)*100 -> 93.220339 | O10: 0.5 | P10: 0.37 | Q10: 1.63 | R10: 1.48 | S10: =(M10+O10+P10+Q10+R10)/5 -> 1.126
A11: 0.31 | B11: 3 | C11: ®úÉVÉÚ®úÉ | D11: VÉ³ýMÉÉÆ´É VÉÉ¨ÉÉänù | E11: 3.39 | F11: 111.45 | G11: 111.25 | H11: 3.2 | I11: =H11/E11*100 -> 94.39528 | J11: 0 | K11: 1025 | L11: 401 | M11: 3.3 | N11: =SUM(M11/E11)*100 -> 97.345133 | O11: 0.92 | P11: 0.34 | Q11: 3.3 | R11: 2.94 | S11: =(M11+O11+P11+Q11+R11)/5 -> 2.16 | T11: 01 ºÉä¨ÉÒ/0.211
A12: 0.79 | B12: 4 | C12: føÉä®ú{ÉMÉÉÆ´É | D12: JÉÉ¨ÉMÉÉÆ´É | E12: 5.84 | F12: 91.3 | G12: 91.05 | H12: 5.44 | I12: =H12/E12*100 -> 93.150685 | J12: {ÉVÉÇxªÉ¨ÉÉ{ÉEò ªÉÆjÉ xÉÉ½þÒ | M12: 5.52 | N12: =SUM(M12/E12)*100 -> 94.520548 | O12: 4.5 | P12: 1.24 | Q12: 5.84 | R12: 5.36 | S12: =(M12+O12+P12+Q12+R12)/5 -> 4.492
A13: 0.18 | B13: 5 | C13: ±ÉÉÆVÉÖb÷ | D13: ¶ÉäMÉÉÆ´É | E13: 1.73 | F13: 100.5 | G13: 99.85 | H13: 1.34 | I13: =H13/E13*100 -> 77.456647 | J13: 0 | K13: 923 | L13: 425 | M13: 1.41 | N13: =SUM(M13/E13)*100 -> 81.50289 | O13: 0 | P13: 0 | Q13: 1.73 | R13: 0.36 | S13: =(M13+O13+P13+Q13+R13)/5 -> 0.7
A14: 0.08 | B14: 6 | C14: Ë{É{É³ýMÉÉÆ´É xÉÉlÉ | D14: JÉÉ¨ÉMÉÉÆ´É | E14: 1.56 | F14: 96.5 | G14: 96.48 | H14: 1.55 | I14: =H14/E14*100 -> 99.358974 | J14: {ÉVÉÇxªÉ¨ÉÉ{ÉEò ªÉÆjÉ xÉÉ½þÒ | M14: 1.48 | N14: =SUM(M14/E14)*100 -> 94.871795 | O14: 0.51 | P14: 0.06 | Q14: 1.56 | R14: 1.4 | S14: =(M14+O14+P14+Q14+R14)/5 -> 1.002
A15: 0.25 | B15: 7 | C15: EÆòb÷É®úÒ | D15: xÉÉÆnÖù®úÉ | E15: 1.49 | F15: 102 | G15: 101.4 | H15: 1.16 | I15: =H15/E15*100 -> 77.852349 | J15: {ÉVÉÇxªÉ¨ÉÉ{ÉEò ªÉÆjÉ xÉÉ½þÒ | M15: 1.49 | N15: =SUM(M15/E15)*100 -> 100 | O15: 0.81 | P15: 0 | Q15: 1.49 | R15: 1.03 | S15: =(M15+O15+P15+Q15+R15)/5 -> 0.964
A16: 1.26 | B16: 8 | C16: ´ªÉÉQÉÉ | D16: ¨ÉÉäiÉÉ³ýÉ | E16: 7.14 | F16: 295.85 | G16: 293.23 | H16: 2.09 | I16: =H16/E16*100 -> 29.271709 | J16: {ÉVÉÇxªÉ¨ÉÉ{ÉEò ªÉÆjÉ xÉÉ½þÒ | M16: 2.25 | N16: =SUM(M16/E16)*100 -> 31.512605 | O16: 0 | P16: 0 | Q16: 6.44 | R16: 0.84 | S16: =(M16+O16+P16+Q16+R16)/5 -> 1.906
A17: 0.19 | B17: 9 | C17: {É³ý¶ÉÒ | D17: ¨Éä½þEò®ú | E17: 2.15 | F17: 97.7 | G17: 96.8 | H17: 1.4 | I17: =H17/E17*100 -> 65.116279 | J17: 0 | K17: 1071 | L17: 1105 | M17: 1.8 | N17: =SUM(M17/E17)*100 -> 83.72093 | O17: 0.77 | P17: 1.07 | Q17: 2.06 | R17: 1.54 | S17: =(M17+O17+P17+Q17+R17)/5 -> 1.448
A18: 0.12 | B18: 10 | C18: {ÉÉÆMÉ®úJÉäb÷ | D18: ¨Éä½þEò®ú | E18: 1.36 | F18: 102.9 | G18: 101.7 | H18: 1.05 | I18: =H18/E18*100 -> 77.205882 | M18: 1.16 | N18: =SUM(M18/E18)*100 -> 85.294118 | O18: 0.98 | P18: 0.72 | Q18: 1.13 | R18: 1.12 | S18: =(M18+O18+P18+Q18+R18)/5 -> 1.022
A19: 0.4 | B19: 11 | C19: PÉxÉ´É]õ{ÉÚ®ú | D19: ¨Éä½þEò®ú | E19: 2.48 | F19: 538.28 | G19: 537 | H19: 1.79 | I19: =H19/E19*100 -> 72.177419 | M19: 1.83 | N19: =SUM(M19/E19)*100 -> 73.790323 | O19: 1.1 | P19: 1.63 | Q19: 2.38 | R19: 1.93 | S19: =(M19+O19+P19+Q19+R19)/5 -> 1.774
A20: 0.16 | B20: 12 | C20: Eò³ý¨Éä·É®ú | D20: ¨Éä½þEò®ú | E20: 1.29 | F20: 93.5 | G20: 93 | H20: 1.08 | I20: =H20/E20*100 -> 83.72093 | M20: 1.12 | N20: =SUM(M20/E20)*100 -> 86.821705 | O20: 0.27 | P20: 0.18 | Q20: 1.24 | R20: 0.94 | S20: =(M20+O20+P20+Q20+R20)/5 -> 0.75
A21: 0.1 | B21: 13 | C21: +Æ¦ÉÉä®úÉ | D21: ±ÉÉähÉÉ®ú | E21: 1.15 | F21: 104.4 | G21: 102.9 | H21: 0.67 | I21: =H21/E21*100 -> 58.26087 | J21: 0 | K21: 1115 | L21: 770 | M21: 1.01 | N21: =SUM(M21/E21)*100 -> 87.826087 | O21: 0 | P21: 0 | Q21: 0.02 | R21: 0.91 | S21: =(M21+O21+P21+Q21+R21)/5 -> 0.388
A22: 0.35 | B22: 14 | C22: nùäù.EÖÆòb÷¡ò³ý | D22: ±ÉÉähÉÉ®ú | E22: 2.06 | F22: 97.8 | G22: 97.2 | H22: 1.66 | I22: =H22/E22*100 -> 80.582524 | M22: 1.86 | N22: =SUM(M22/E22)*100 -> 90.291262 | O22: 0.09 | P22: 0.27 | Q22: 1.12 | R22: 1.76 | S22: =(M22+O22+P22+Q22+R22)/5 -> 1.02
A23: 0.13 | B23: 15 | C23: MÉÆvÉÉ®úÒ | D23: ±ÉÉähÉÉ®ú | E23: 2.28 | F23: 499.2 | G23: 498.9 | H23: 2.15 | I23: =H23/E23*100 -> 94.298246 | M23: 2.19 | N23: =SUM(M23/E23)*100 -> 96.052632 | O23: 0.95 | P23: 2.1 | Q23: 2.27 | R23: 2.11 | S23: =(M23+O23+P23+Q23+R23)/5 -> 1.924
A24: 0.32 | B24: 16 | C24: Ë{ÉÆ{É³ýxÉä®ú | D24: ±ÉÉähÉÉ®ú | E24: 1.77 | F24: 102.2 | G24: 101.85 | H24: 1.6 | I24: =H24/E24*100 -> 90.39548 | M24: 1.67 | N24: =SUM(M24/E24)*100 -> 94.350282 | O24: 0.5 | P24: 0.5 | Q24: 1.76 | R24: 1.62 | S24: =(M24+O24+P24+Q24+R24)/5 -> 1.21
A25: 0.1 | B25: 17 | C25: Ê¶É´ÉhÉÒ VÉÉ]õ | D25: ±ÉÉähÉÉ®ú | E25: 1.38 | F25: 91.6 | G25: 90.95 | H25: 1.18 | I25: =H25/E25*100 -> 85.507246 | M25: 1.2 | N25: =SUM(M25/E25)*100 -> 86.956522 | O25: 0.24 | P25: 0.82 | Q25: 1.38 | R25: 1.27 | S25: =(M25+O25+P25+Q25+R25)/5 -> 0.982
A26: 0.13 | B26: 18 | C26: iÉÆÉ¤ÉäÉ³ýÉ | D26: ±ÉÉähÉÉ®ú | E26: 1.56 | F26: 100 | G26: 99.2 | H26: 1.24 | I26: =H26/E26*100 -> 79.487179 | M26: 1.17 | N26: =SUM(M26/E26)*100 -> 75 | O26: 0.2 | P26: 0.59 | Q26: 1.2 | R26: 1.2 | S26: =(M26+O26+P26+Q26+R26)/5 -> 0.872
A27: 0.23 | B27: 19 | C27: Ê]õ]õ´ÉÒ | D27: ±ÉÉähÉÉ®ú | E27: 2.88 | F27: 517.74 | G27: 516.1 | H27: 2.02 | I27: =H27/E27*100 -> 70.138889 | M27: 2.33 | N27: =SUM(M27/E27)*100 -> 80.902778 | O27: 0.72 | P27: 1.13 | Q27: 2.84 | R27: 1.52 | S27: =(M27+O27+P27+Q27+R27)/5 -> 1.708
A28: 0.28 | B28: 20 | C28: Ê½þ®úb÷´É ºÉÆiÉ | D28: ±ÉÉähÉÉ®ú | E28: 2.27 | F28: 100.1 | G28: 98.6 | H28: 1.24 | I28: =H28/E28*100 -> 54.625551 | M28: 1.85 | N28: =SUM(M28/E28)*100 -> 81.497797 | O28: 0 | P28: 0 | Q28: 2.27 | R28: 2.08 | S28: =(M28+O28+P28+Q28+R28)/5 -> 1.24
A29: 0.28 | B29: 21 | C29: MÆÉÖvÉÉ | D29: ±ÉÉähÉÉ®ú | E29: 1.52 | F29: 95.4 | G29: 95.1 | H29: 1.33 | I29: =H29/E29*100 -> 87.5 | M29: 1.39 | N29: =SUM(M29/E29)*100 -> 91.447368 | O29: 0.18 | P29: 0.61 | Q29: 1.51 | R29: 1.27 | S29: =(M29+O29+P29+Q29+R29)/5 -> 0.992
A30: 0.87 | B30: 22 | C30: ¤ÉÉä®úJÉäb÷Ò ºÉÆiÉ | D30: ±ÉÉähÉÉ®ú | E30: 7.27 | F30: 85.5 | G30: 84.4 | H30: 4.98 | I30: =H30/E30*100 -> 68.500688 | J30: 0 | K30: 903 | L30: 1028 | M30: 1.65 | N30: =SUM(M30/E30)*100 -> 22.696011 | O30: 0 | P30: 0.15 | Q30: 2.15 | R30: 1.5 | S30: =(M30+O30+P30+Q30+R30)/5 -> 1.09
A31: 0.27 | B31: 23 | C31: MÉÉ®úJÉäb÷ | D31: ËºÉnùJÉäb÷ ®úÉVÉÉ | E31: 1.99 | F31: 134.08 | G31: 133.35 | H31: 1.621 | I31: =H31/E31*100 -> 81.457286 | J31: 0 | K31: 880 | L31: 687 | M31: 1.7 | N31: =SUM(M31/E31)*100 -> 85.427136 | O31: 0.34 | P31: 0.54 | Q31: 0.66 | R31: 1.6 | S31: =(M31+O31+P31+Q31+R31)/5 -> 0.968
A32: 0.26 | B32: 24 | C32: Eäò¶É´É Ê¶É´ÉhÉÒ | D32: ËºÉnùJÉäb÷ ®úÉVÉÉ | E32: 2.12 | F32: 92.6 | G32: 91.6 | H32: 1.47 | I32: =H32/E32*100 -> 69.339623 | M32: 1.7 | N32: =SUM(M32/E32)*100 -> 80.188679 | O32: 0.05 | P32: 0 | Q32: 2.06 | R32: 1.58 | S32: =(M32+O32+P32+Q32+R32)/5 -> 1.078
A33: 0.85 | B33: 25 | C33: ¨ÉÉÆb÷´ÉÉ | D33: ËºÉnùJÉäb÷ ®úÉVÉÉ | E33: 3.25 | F33: 517.8 | G33: 516.75 | H33: 2.41 | I33: =H33/E33*100 -> 74.153846 | M33: 2.76 | N33: =SUM(M33/E33)*100 -> 84.923077 | O33: 0.12 | P33: 0.54 | Q33: 3.12 | R33: 2.41 | S33: =(M33+O33+P33+Q33+R33)/5 -> 1.79
A34: 0.17 | B34: 26 | C34: ´É®ú´ÉÆb÷ »ÉÆ.iÉ | D34: ¤ÉÖ±Éb÷ÉhÉÉ | E34: 1.52 | F34: 111.2 | G34: 110.6 | H34: 1.34 | I34: =H34/E34*100 -> 88.157895 | J34: {ÉVÉÇxªÉ¨ÉÉ{ÉEò ªÉÆjÉ xÉÉ½þÒ | M34: 1.26 | N34: =SUM(M34/E34)*100 -> 82.894737 | O34: 0.55 | P34: 0.12 | Q34: 1.37 | R34: 1.17 | S34: =(M34+O34+P34+Q34+R34)/5 -> 0.894
A35: 1 | B35: 27 | C35: Eò®úb÷Ò | D35: ¤ÉÖ±Éb÷ÉhÉÉ | E35: 4.89 | F35: 101.5 | G35: 100.8 | H35: 3.9 | I35: =H35/E35*100 -> 79.754601 | J35: {ÉVÉÇxªÉ¨ÉÉ{ÉEò ªÉÆjÉ xÉÉ½þÒ | M35: 4.45 | N35: =SUM(M35/E35)*100 -> 91.002045 | O35: 2.75 | P35: 0 | Q35: 4.6 | R35: 3.52 | S35: =(M35+O35+P35+Q35+R35)/5 -> 3.064
A36: 1.26 | B36: 28 | C36: ¨ÉÉºÉ¯û³ý | D36: ¤ÉÖ±Éb÷ÉhÉÉ | E36: 8.24 | F36: 108.7 | G36: 108.3 | H36: 7.28 | I36: =H36/E36*100 -> 88.349515 | J36: {ÉVÉÇxªÉ¨ÉÉ{ÉEò ªÉÆjÉ xÉÉ½þÒ | M36: 7.99 | N36: =SUM(M36/E36)*100 -> 96.966019 | O36: 4.45 | P36: 1.05 | Q36: 8.24 | R36: 7.74 | S36: =(M36+O36+P36+Q36+R36)/5 -> 5.894
A37: 0.18 | B37: 29 | C37: b÷ÉåMÉ®ú¶Éä´É±ÉÒ | D37: ÊSÉJÉ±ÉÒ | E37: 2.17 | F37: 84 | G37: 74.4 | H37: 0.56 | I37: =H37/E37*100 -> 25.806452 | J37: {ÉVÉÇxªÉ¨ÉÉ{ÉEò ªÉÆjÉ xÉÉ½þÒ | M37: 1.93 | N37: =SUM(M37/E37)*100 -> 88.940092 | O37: 0.88 | P37: 0.06 | Q37: 2.08 | R37: 1.47 | S37: =(M37+O37+P37+Q37+R37)/5 -> 1.284
A38: 0.12 | B38: 30 | C38: ¨ÉäÆb÷MÉÉÆ´É | D38: näù>ð³ýMÉÉÆ´É ®úÉVÉÉ | E38: 1.42 | F38: 84.7 | G38: 84 | H38: 1.08 | I38: =H38/E38*100 -> 76.056338 | J38: {ÉVÉÇxªÉ¨ÉÉ{ÉEò ªÉÆjÉ xÉÉ½þÒ | M38: 1.02 | N38: =SUM(M38/E38)*100 -> 71.830986 | O38: 0.25 | P38: 0.2 | Q38: 1.32 | R38: 1.08 | S38: =(M38+O38+P38+Q38+R38)/5 -> 0.774
A39: 0.11 | B39: 31 | C39: Ë{É{É³ýMÉÉÆ´É ÊSÉ±É¨É | D39: näù>ð³ýMÉÉÆ´É ®úÉVÉÉ | E39: 1.16 | F39: 100.6 | G39: 100.35 | H39: 1.06 | I39: =H39/E39*100 -> 91.37931 | J39: {ÉVÉÇxªÉ¨ÉÉ{ÉEò ªÉÆjÉ xÉÉ½þÒ | M39: 0.91 | N39: =SUM(M39/E39)*100 -> 78.448276 | O39: 0.24 | P39: 0 | Q39: 0 | R39: 0.91 | S39: =(M39+O39+P39+Q39+R39)/5 -> 0.412
A40: 0.12 | B40: 32 | C40: ¡òkÉä{ÉÚ®ú | D40: JÉÉ¨ÉMÉÉÆ´É | E40: 1.66 | F40: 93.7 | G40: 93.45 | H40: 1.55 | I40: =H40/E40*100 -> 93.373494 | J40: 0 | K40: 612 | L40: - | M40: 0.98 | N40: =SUM(M40/E40)*100 -> 59.036145 | O40: 0.35 | P40: 0 | Q40: 1.66 | R40: 1.5 | S40: =(M40+O40+P40+Q40+R40)/5 -> 0.898
A41: 0.39 | B41: 33 | C41: ÊxÉ¨ÉJÉäb÷ | D41: JÉÉ¨ÉMÉÉÆ´É | E41: 2.66 | F41: 148.93 | G41: 148.7 | H41: 2.57 | I41: =H41/E41*100 -> 96.616541 | M41: 2.62 | N41: =SUM(M41/E41)*100 -> 98.496241 | O41: 1.67 | P41: 0.39 | Q41: 2.66 | R41: 2.59 | S41: =(M41+O41+P41+Q41+R41)/5 -> 1.986
A42: 0.09 | B42: 34 | C42: ®úÉªÉvÉ®ú | D42: JÉÉ¨ÉMÉÉÆ´É | E42: 1.08 | F42: 98.2 | G42: 97.9 | H42: 0.96 | I42: =H42/E42*100 -> 88.888889 | M42: 1 | N42: =SUM(M42/E42)*100 -> 92.592593 | O42: 0.39 | P42: 0.14 | Q42: 1.08 | R42: 0.94 | S42: =(M42+O42+P42+Q42+R42)/5 -> 0.71
A43: 0.66 | B43: 35 | C43: ¥ÉÉ¨½þhÉ´ÉÉb÷É | D43: ÊSÉJÉ±ÉÒ | E43: 6.18 | F43: 105 | G43: 104.6 | H43: 5.72 | I43: =H43/E43*100 -> 92.556634 | M43: 5.6 | N43: =SUM(M43/E43)*100 -> 90.614887 | O43: 0.62 | P43: 0 | Q43: 6.18 | R43: 5.5 | S43: =(M43+O43+P43+Q43+R43)/5 -> 3.58
A44: 0.24 | B44: 36 | C44: ±ÉÉähÉ´ÉÉb÷Ò | D44: xÉÉÆnÖù®úÉ | E44: 2.33 | F44: 102.1 | G44: 98.3 | H44: 0.267 | I44: =H44/E44*100 -> 11.459227 | J44: {ÉVÉÇxªÉ¨ÉÉ{ÉEò ªÉÆjÉ xÉÉ½þÒ | M44: 0.81 | N44: =SUM(M44/E44)*100 -> 34.763948 | O44: 0 | P44: 0 | Q44: 1.13 | R44: 0.32 | S44: =(M44+O44+P44+Q44+R44)/5 -> 0.452
A45: 1.15 | B45: 37 | C45: Ê´ÉpÖùù{ÉÉ | D45: ËºÉnùJÉäb÷ ®úÉVÉÉ | E45: 3.41 | F45: 515 | G45: 514.8 | H45: 3.18 | I45: =H45/E45*100 -> 93.255132 | J45: {ÉVÉÇxªÉ¨ÉÉ{ÉEò ªÉÆjÉ xÉÉ½þÒ | M45: 3.3 | N45: =SUM(M45/E45)*100 -> 96.774194 | O45: 0.49 | P45: 0 | Q45: 1.4 | R45: 2.93 | S45: =(M45+O45+P45+Q45+R45)/5 -> 1.624
A46: =SUM(A9:A45) -> 13.61 | B46: BEÖòhÉ ±ÉPÉÖ |ÉEò±{É 37 | E46: =SUM(E9:E45) -> 99.31 | H46: =SUM(H9:H45) -> 75.588 | I46: =H46/E46*100 -> 76.113181 | M46: =SUM(M9:M45) -> 78.21 | N46: =M46/E46*100 -> 78.753398 | O46: =SUM(O9:O45) -> 26.8 | P46: =SUM(P9:P45) -> 14.94 | Q46: =SUM(Q9:Q45) -> 83.72 | R46: =SUM(R9:R45) -> 70.12 | S46: =SUM(S9:S45) -> 54.758
R49: कार्यकारी अभियंता
R50: बुलडाणा पाटबंधारे विभाग
R51: बुलडाणा

Sheet KTW
B1: ¨ÉÖJªÉ +Ê¦ÉªÉÆiÉÉ VÉ±ÉºÉÆ{ÉnùÉ Ê´É¦ÉÉMÉ, +¨É®úÉ´ÉiÉÒ
A2: ÊVÉ±½þÉ -¤ÉÖ±Éb÷ÉhÉÉ | D2: ¤ÉÖ±Éb÷ÉhÉÉ ÊVÉ±½þªÉÉiÉÒ±É ±ÉPÉÖ {ÉÉ]õ¤ÉÆvÉÉ®äú |ÉEò±{ÉÉÆSÉÉ ={ÉªÉÖCiÉ {ÉÉhÉÒ ºÉÉ`öÒ ´É VÉ±ÉÉ¶ÉªÉ {ÉÉiÉ³ýÒ - +½þ´ÉÉ±É
G3: ¤ÉÖ±Éb÷ÉhÉÉ {ÉÉ]õ¤ÉÆvÉÉ®äú Ê´É¦ÉÉMÉ, ¤ÉÖ±Éb÷ÉhÉÉ
A4: EòÉä±½þÉ{ÉÚ®ú {ÉvnùiÉÒSªÉÉ ¤ÉÆvÉÉ­ªÉÉiÉÒ±É {ÉÉhÉÒ ºÉÉ`öÉ ÊnùxÉÉÆE 22/12/2022
B5: +. Gò. | C5: EòÉä.{É.¤ÉÆvÉÉ­ªÉÉSÉä xÉÉÆ´É | D5: ÊVÉ±½þÉ | E5: iÉÉ±ÉÖEòÉ | G5: ºlÉÉÊxÉEò xÉnùÒ xÉÉ±ÉÉ, ={ÉxÉnùÒSÉä xÉÉÆ´É | H5: |ÉEò±{ÉÒªÉ ºÉÆEò±{ÉÒiÉ ºÉÉ`öÉ (nù±ÉPÉ¨ÉÒ) | I5: {ÉÖhÉÇ ºÉÆªÉSÉ {ÉÉiÉ³ýÒ ¨ÉÒ. | J5: +ÉVÉSÉÒ VÉ±ÉÉ¶ÉªÉ {ÉÉiÉ³ýÒ ¨ÉÒ. | K5: +ÉVÉSÉÉ {ÉÉhÉÒ ºÉÉ`öÉ (nù±ÉPÉ¨ÉÒ) (2022 | L5: ]õCEäò´ÉÉ®úÒ | N5: ªÉÉSÉ ÊnùxÉÆÉEòÉSÉÉ JÉÉ±ÉÒ±É ´É¹ÉÉÇiÉÒ±É ={ÉªÉÖCiÉ {ÉÉhÉÒ ºÉÉ`öÉ nù.±É.PÉ.¨ÉÒ | S5: ´É®úSªÉÉ vÉ®úhÉÉiÉÚxÉ {ÉÉhÉÒ ºÉÉäb÷hªÉÉiÉ +É±Éä EòÉ?
N6: 2017 | O6: 2018 | P6: 2019 | Q6: 2020 | R6: 2021
B7: 1 | C7: 2 | D7: 3 | E7: 4 | G7: 5 | H7: 6 | I7: 7 | J7: 8 | K7: 9 | L7: 10 | N7: 12 | O7: 13 | P7: 14 | Q7: 15 | R7: 15 | S7: 16
B8: 1 | C8: iÉÉÆnÖù³ý´ÉÉb÷Ò | D8: ¤ÉÖ±Éb÷ÉhÉÉ | E8: ¨ÉÉäiÉÉ³ýÉ | G8: ´ªÉÉQÉÉ | H8: 0.75 | I8: 96 | J8: 94.3 | K8: 0.41 | L8: =K8/H8*100 -> 54.666667 | N8: 0.11 | O8: 0 | P8: 0.55 | Q8: 0 | R8: 0.18
B9: 2 | C9: ÊxÉ¨ÉMÉÉÆ´É ´ÉÉªÉÉ³ý | D9: ¤ÉÖ±Éb÷ÉhÉÉ | E9: ËºÉ.®úÉVÉÉ | G9: JÉb÷Eò{ÉÚhÉÉÇ | H9: 1.36 | I9: 92 | J9: 90.6 | K9: 0.57 | L9: =K9/H9*100 -> 41.911765 | N9: 0.41 | O9: 0 | P9: 0.62 | Q9: 0.67 | R9: 0.77
B10: 3 | C10: nùäù´ÉJÉäb÷ | D10: ¤ÉÖ±Éb÷ÉhÉÉ | E10: ËºÉ.®úÉVÉÉ | G10: JÉb÷Eò{ÉÚhÉÉÇ | H10: 1.03 | I10: 92 | J10: 91.7 | K10: 0.95 | L10: =K10/H10*100 -> 92.23301 | N10: 0.55 | O10: 0 | P10: 1.03 | Q10: 0.95 | R10: 1.03
B11: 4 | C11: nùÖùºÉ®ú¤ÉÒb÷ | D11: ¤ÉÖ±Éb÷ÉhÉÉ | E11: ËºÉ.®úÉVÉÉ | G11: JÉb÷Eò{ÉÚhÉÉÇ | H11: 1.16 | I11: 93 | J11: 90 | K11: 0.37 | L11: =K11/H11*100 -> 31.896552 | N11: 0.52 | O11: 0 | P11: 0 | Q11: 0.57 | R11: 0.5
C12: BEÖòhÉ 4 ¤ÉÆvÉÉ®äú | D12: - | E12: - | G12: - | H12: =SUM(H8:H11) -> 4.3 | K12: =SUM(K8:K11) -> 2.3 | L12: =SUM(K12/H12*100) -> 53.488372 | N12: =SUM(N8:N11) -> 1.59 | O12: =SUM(O8:O11) -> 0 | P12: =SUM(P8:P11) -> 2.2 | Q12: =SUM(Q8:Q11) -> 2.19 | R12: =SUM(R8:R11) -> 2.48
Q13: EòÉªÉÇEòÉ®úÒ +Ê¦ÉªÉÆiÉÉ
Q14: ¤ÉÖ±Éb÷ÉhÉÉ {ÉÉ]õ¤ÉÆvÉÉ®äú Ê´É¦ÉÉMÉ, ¤ÉÖÆ±Éb÷ÉhÉÉ

Sheet _MAJOR_Medium _circle._2 (2)
A1: ¤ÉÖ±Éb÷ÉhÉÉ {ÉÉ]õ¤ÉÆvÉÉ®äú Ê´É¦ÉÉMÉ, ¤ÉÖ±Éb÷ÉhÉÉ
A2: |É{ÉjÉ -1 ´É 2 ( nèùÊxÉEò ´É ºÉÉ{iÉÉÊ½þEò ) MÉÉä¹É´ÉÉ®úÉ .
A3: +¨É®úÉ´ÉiÉÒ |ÉÉnäùÊ¶ÉEò Ê´É¦ÉÉMÉÉiÉÒ±É ( ¶ÉÉºÉxÉ ´É ¨É½þÉ¨ÉÆb÷³ýÉEòb÷Ò±É) ¨ÉÉä`äö, ¨ÉvªÉ¨É ´É ±ÉPÉÖ {ÉÉ]õ¤ÉÆvÉÉ®äú |ÉEò±{ÉÉÆSÉÉ ÊnùxÉÉÆE 08/11/2014 SÉÉ ={ÉªÉÖCiÉ ºÉÉ`öÉ.
A4: |ÉEò±{ÉÒªÉ ¨ÉÞiÉºÉÉ`öÉ nù.±É.PÉ.¨ÉÒ. | B4: + Gò | C4: |ÉEò±{ÉÉSÉäÆ xÉÉÆ´É | D4: iÉÉ±ÉÖEòÉ | E4: ={ÉªÉÖCiÉºÉÉ`öÉ nù.±É.PÉ.¨ÉÒ (2014) | I4: +ÉVÉSÉÉ {ÉÉ>ðºÉ Ê¨É.Ê¨É. | J4: 1/6/14 {ÉÉºÉÚxÉSÉÉ {ÉÉ>ðºÉ Ê¨É.Ê¨É. | K4: ¨ÉÉMÉÒ±É ´É¹ÉÉÇSÉÒ iªÉÉSÉ ËnùxÉÉEòÉSÉÒ ¨ÉÉÊ½þiÉÒ (2013) | N4: ªÉÉSÉ ÊnùxÉÆÉEòÉSÉÉ JÉÉ±ÉÒ±É ´É¹ÉÉÇiÉÒ±É ={ÉªÉÖCiÉ {ÉÉhÉÒºÉÉ`öÉ nù.±É.PÉ.¨ÉÒ | R4: ºÉ®úÉºÉ®úÒ ={ÉªÉÖCiÉ ºÉÉ`öÉ (09iÉä 13) | S4: Ê´ÉºÉMÉÇ PÉ.Ê¨É/ ºÉäEÆònù
E5: |ÉEò±{ÉÒªÉ ºÉÆEò±{ÉÒiÉ ºÉÉ`öÉ | F5: +ÉVÉSÉÒ VÉ±ÉÉ¶ÉªÉ {ÉÉiÉ³ýÒ ¨ÉÒ. | G5: +ÉVÉSÉÉ {ÉÉhÉÒ ºÉÉ`öÉ | H5: ]õCEäò´ÉÉ®úÒ (6/4) x 100
K6: 1-6-13 {ÉÉºÉÚxÉSÉÉ {ÉÉ>ðºÉ Ê¨É.Ê¨É. | L6: ={ÉªÉÖCiÉ {ÉÉhÉÒºÉÉ`öÉ | M6: ]õCEäò´ÉÉ®úÒ | N6: 2009 | O6: 2010 | P6: 2011 | Q6: 2012
B7: 1 | C7: 2 | D7: 3 | E7: 4 | F7: 5 | G7: 6 | H7: 7 | I7: 8 | J7: 9 | K7: 10 | L7: 11 | M7: 12 | N7: 13 | O7: 14 | P7: 15 | Q7: 16 | R7: 17 | S7: 18
C8: ¶ÉÉºÉxÉ ºiÉ®úÉ´É®úÒ±É |ÉEò±{É
B9: (+) | C9: ¨ÉÉä`äö |ÉEò±{É
A10: 2.54 | B10: 1 | C10: xÉ³ýMÉÆMÉÉ | D10: ¨ÉÉäiÉÉ³ýÉ | E10: 69.32 | F10: 291.29 | G10: 39.9 | H10: =(G10/E10)*100 -> 57.559146 | I10: 0 | J10: 529 | K10: 1027 | L10: 69.32 | M10: =L10/E10*100 -> 100 | N10: 15.18 | O10: 56.16 | P10: 62.41 | Q10: 8.34 | R10: =AVERAGE(+L10+N10+O10+P10+Q10)/5 -> 42.282
A11: 7.38 | B11: 2 | C11: {ÉäxÉ]õÉEò³ýÒ(¨É.¨ÉÆÆý) | D11: ¨Éä½þEò®ú | E11: 59.97 | F11: 557.4 | G11: 48.05 | H11: =(G11/E11)*100 -> 80.123395 | I11: 0 | J11: 628 | K11: 907 | L11: 59.97 | M11: =L11/E11*100 -> 100 | N11: 9.06 | O11: 59.97 | P11: 57.07 | Q11: 2.53 | R11: =AVERAGE(+L11+N11+O11+P11+Q11)/5 -> 37.72
A12: 67.206 | B12: 3 | C12: JÉb÷Eò{ÉÖhÉÇÉ (¨É.¨ÉÆÆý) | D12: nùä.®úÉVÉÉ | E12: 114.631 | F12: 520.04 | G12: 101.269 | H12: =(G12/E12)*100 -> 88.343467 | I12: 0 | J12: 417 | K12: 846 | L12: 108.84 | M12: =L12/E12*100 -> 94.948138 | N12: 52.1 | O12: 58.05 | P12: 54.52 | Q12: 0 | R12: =AVERAGE(+L12+N12+O12+P12+Q12)/5 -> 54.702
A13: =SUM(A10:A12) -> 77.126 | C13: BEÖòhÉ iÉÒxÉ ¨ÉÉä`äö |ÉEò±{É | E13: =SUM(E10:E12) -> 243.921 | F13: 0 | G13: =SUM(G10:G12) -> 189.219 | H13: =(G13/E13)*100 -> 77.573887 | I13: 0 | J13: 0 | K13: 0 | L13: =SUM(L10:L12) -> 238.13 | M13: =L13/E13*100 -> 97.625871 | N13: =SUM(N10:N12) -> 76.34 | O13: =SUM(O10:O12) -> 174.18 | P13: =SUM(P10:P12) -> 174 | Q13: =SUM(Q10:Q12) -> 10.87 | R13: =AVERAGE(+L13+N13+O13+P13+Q13)/5 -> 134.704
B14: (¤É) | C14: ¨ÉvªÉ¨É |ÉEò±{É
A15: 1.63 | B15: 1 | C15: {É±ÉføMÉ | D15: ¨ÉÉäiÉÉ³ýÉ | E15: 7.51 | F15: 403.2 | G15: 7.51 | H15: =(G15/E15)*100 -> 100 | I15: 0 | J15: 665 | K15: 1222 | L15: 7.51 | M15: =L15/E15*100 -> 100 | N15: 4.77 | O15: 7.51 | P15: 7.51 | Q15: 1.84 | R15: =AVERAGE(+L15+N15+O15+P15+Q15)/5 -> 5.828
A16: 2.33 | B16: 2 | C16: YÉÉÆxÉMÉÆMÉÉ | D16: JÉÉ¨ÉMÉÉÆ´É | E16: 33.93 | F16: 401.95 | G16: 24.25 | H16: =(G16/E16)*100 -> 71.470675 | I16: 0 | J16: 330 | K16: 542 | L16: 33.15 | M16: =L16/E16*100 -> 97.701149 | N16: 8.78 | O16: 33.93 | P16: 23.9 | Q16: 5.93 | R16: =AVERAGE(+L16+N16+O16+P16+Q16)/5 -> 21.138
A17: 2.46 | B17: 3 | C17: ¨ÉºÉ | D17: JÉÉ¨ÉMÉÉÆ´É | E17: 15.04 | F17: 324.3 | G17: 14.13 | H17: =(G17/E17)*100 -> 93.949468 | I17: 0 | J17: 403 | K17: 685 | L17: 15.04 | M17: =L17/E17*100 -> 100 | N17: 5.7 | O17: 15.04 | P17: 3.97 | Q17: 3.97 | R17: =AVERAGE(+L17+N17+O17+P17+Q17)/5 -> 8.744
A18: 7.46 | B18: 4 | C18: EòÉä®úÉb÷Ò | D18: ¨Éä½þEò®ú | E18: 15.12 | F18: 545.25 | G18: 15.12 | H18: =(G18/E18)*100 -> 100 | I18: 0 | J18: 401 | K18: 766 | L18: 15.12 | M18: =L18/E18*100 -> 100 | N18: 0.81 | O18: 15.12 | P18: 11.85 | Q18: 3.02 | R18: =AVERAGE(+L18+N18+O18+P18+Q18)/5 -> 9.184
C19: EòÉä.{É.¤É | D19: ¨Éä½þEò®ú | E19: 5.58 | F19: 545.7 | G19: 2.31 | H19: =(G19/E19)*100 -> 41.397849 | I19: 0 | J19: 0 | K19: 0 | L19: 5.58 | M19: =L19/E19*100 -> 100 | N19: 0 | O19: 0 | P19: 0 | Q19: 0 | R19: =AVERAGE(+L19+N19+O19+P19+Q19)/5 -> 1.116
A20: 5.65 | B20: 5 | C20: ¨ÉxÉ(¨É½þÉ.¨ÉÆý) | D20: JÉÉ¨ÉMÉÉÆ´É | E20: 36.83 | F20: 370.05 | G20: 19.02 | H20: =(G20/E20)*100 -> 51.642683 | I20: 0 | J20: 462 | K20: 922 | L20: 36.83 | M20: =L20/E20*100 -> 100 | N20: 15.55 | O20: 36.83 | P20: 11.93 | Q20: 12.07 | R20: =AVERAGE(+L20+N20+O20+P20+Q20)/5 -> 22.642
A21: 0.58 | B21: 6 | C21: iÉÉä®úhÉÉ(¨É½þÉ.¨ÉÆ ) | D21: JÉÉ¨ÉMÉÉÆ´É | E21: 7.89 | F21: 403.65 | G21: 2.01 | H21: =(G21/E21)*100 -> 25.475285 | I21: 0 | J21: 470 | K21: 845 | L21: 7.89 | M21: =L21/E21*100 -> 100 | N21: 6.35 | O21: 7.54 | P21: 2.59 | Q21: 1.49 | R21: =AVERAGE(+L21+N21+O21+P21+Q21)/5 -> 5.172
A22: 1.01 | B22: 7 | C22: =iÉÉ´É³ýÒ(¨É½þÉ.¨É) | D22: JÉÉ¨ÉMÉÉÆ´É | E22: 19.79 | F22: 370 | G22: 18.01 | H22: =(G22/E22)*100 -> 91.005558 | I22: 0 | J22: 511 | K22: 932 | L22: 19.79 | M22: =L22/E22*100 -> 100 | N22: 18.19 | O22: 19.79 | P22: 7.28 | Q22: 12.89 | R22: =AVERAGE(+L22+N22+O22+P22+Q22)/5 -> 15.588
A23: =SUM(A15:A22) -> 21.12 | C23: BEÖòhÉ ¨ÉvªÉ¨É |ÉEò±{É-7 | E23: =SUM(E15:E22) -> 141.69 | F23: 0 | G23: =SUM(G15:G22) -> 102.36 | H23: =(G23/E23)*100 -> 72.242219 | I23: 0 | K23: 0 | L23: =SUM(L15:L22) -> 140.91 | M23: =L23/E23*100 -> 99.449502 | N23: =SUM(N15:N22) -> 60.15 | O23: =SUM(O15:O22) -> 135.76 | P23: =SUM(P15:P22) -> 69.03 | Q23: =SUM(Q15:Q22) -> 41.21 | R23: =AVERAGE(+L23+N23+O23+P23+Q23)/5 -> 89.412
A24: 5.57 | C24: BEÖòhÉ ¨É½þÉ¨ÉÆb÷³ý -7 | E24: =+#REF! -> #REF! | F24: 0 | G24: =+#REF! -> #REF! | H24: =(G24/E24)*100 -> #REF! | I24: 0 | J24: 0 | K24: 0 | L24: =+#REF! -> #REF! | M24: =+#REF! -> #REF! | N24: =+#REF! -> #REF! | O24: =+#REF! -> #REF! | P24: =+#REF! -> #REF! | Q24: =+#REF! -> #REF! | R24: =+#REF! -> #REF!
A25: 15.32 | B25: BEÖòhÉ ±ÉPÉÖ |ÉEò±{É 74 (¶ÉÉºÉxÉ) | E25: =+#REF! -> #REF! | F25: 0 | G25: =+#REF! -> #REF! | H25: =+#REF! -> #REF! | I25: 0 | J25: 0 | K25: 0 | L25: =+#REF! -> #REF! | M25: =+#REF! -> #REF! | N25: =+#REF! -> #REF! | O25: =+#REF! -> #REF! | P25: =+#REF! -> #REF! | Q25: =+#REF! -> #REF! | R25: =+#REF! -> #REF!
A26: =(A25+A24+A23+A13) -> 119.136 | B26: BEÖòhÉ ¤ÉÖ±Éb÷ÉhÉÉ ÊVÉ±½þÉ- 91 | E26: =E13+E23+E24+E25 -> #REF! | F26: =F13+F23+F24+F25 -> 0 | G26: =G13+G23+G24+G25 -> #REF! | H26: =(G26/E26)*100 -> #REF! | I26: 0 | J26: =(+J10+J11+J12+J15+J16+J17+J18+J20+J21+J22)/10 -> 481.6 | K26: =(+K10+K11+K12+K15+K16+K17+K18+K20+K21+K22)/10 -> 869.4 | L26: =L13+L23+L24+L25 -> #REF! | M26: =L26/E26*100 -> #REF! | N26: =N13+N23+N24+N25 -> #REF! | O26: =O13+O23+O24+O25 -> #REF! | P26: =P13+P23+P24+P25 -> #REF! | Q26: =Q13+Q23+Q24+Q25 -> #REF! | R26: =AVERAGE(+L26+N26+O26+P26+Q26)/5 -> #REF!
C27: VÉÉ.Gò./ /VÉ{ÉÉ+/ºÉÉ.+./2013 | P27: ¤ÉÖ±Éb÷ÉhÉÉ {ÉÉ]õ¤ÉÆvÉÉ®äú Ê´É¦ÉÉMÉ,¤ÉÖ±Éb÷ÉhÉÉ
C28: |ÉÊiÉ±ÉÒ{ÉÒ 1) ¨ÉÉ.¨ÉÖJªÉ +Ê¦ÉªÉÆiÉÉ VÉ±ÉºÉÆ{ÉnùÉ,Ê´É¦ÉÉMÉ, +¨É®úÉ´ÉiÉÒ, 2)¨ÉÉ.¨ÉÖJªÉ +Ë¦ÉªÉÆiÉÉ,Ê´É¶Éä¹É |ÉEò±{É VÉ±ÉºÉÆ{ÉnùÉ Ê´É¦ÉÉMÉ,ËºÉSÉxÉ ºÉä´ÉÉ ¦É´ÉxÉ,Ê¶É´ÉÉVÉÒ xÉMÉ®ú,+¨É®úÉ´ÉiÉÒ | P28: ÊnùxÉÉÆEò 28/10/2014
C29: 3)¨ÉÉ.+vÉÒIÉEò +Ê¦ÉªÉÆiÉÉ +EòÉä±ÉÉ /¤ÉÖ±Éb÷ÉhÉÉ, 4)ÊVÉ±½þÉÊvÉEòÉ®úÒ ({ÉÉhÉÒ ]ÆõSÉÉ<Ç Ê´É¦ÉÉMÉ ¤ÉÖ±Éb÷ÉhÉÉ,), 5)ÊVÉ±½þÉ EÞò¹ÉÒ +ÊvÉIÉEò, ¤ÉÖ±Éb÷ÉhÉÉ,
C30: 6)ÊVÉ±½þÉ ¨ÉiºªÉ +ÊvÉEòÉ®úÒ, ¤ÉÖ±Éb÷ÉhÉÉ, 7) EòÉªÉÇEòÉ®úÒ +Ê¦ÉªÉÆiÉÉ, ¨É.ÊVÉ.|ÉÉvÉÒEò®úhÉ ¤ÉÉÆvÉEòÉ¨É Ê´É¦ÉÉMÉ ¤ÉÖ±Éb÷ÉhÉÉ, 8) ¨É½þÉ®úÉ¹]Åõ VÉ±ÉºÉÆ{ÉkÉÒ Ê´ÉEòÉºÉ Eäòpù +Éè®ÆúMÉÉ¤ÉÉnù
C31: 9)ÊVÉ±½þÉ ¨ÉÉÊ½þiÉÒ +ÊvÉEòÉ®úÒ ¤ÉÖ±Éb÷ÉhÉÉ. ªÉÉÆxÉÉ ¨ÉÉÊ½þiÉÒºiÉ´É ºÉÉnù®ú/ ºÉ¨ÉÉnù®úÉxÉä +OÉäÊ¹ÉiÉ. 10)ËºÉSÉxÉ ¶ÉÉJÉÉ Ê´É¦ÉÉMÉÒªÉ EòÉªÉÉÇ±ÉªÉ.
Q32: EòÉªÉÇEòÉ®úÒ +Ê¦ÉªÉÆiÉÉ
G33: MÉÉä¹É´ÉÉ®úÉ | Q33: ¤ÉÖ±Éb÷ÉhÉÉ {ÉÉ]õ¤ÉÆvÉÉ®äú Ê´É¦ÉÉMÉ ¤ÉÖ±Éb÷ÉhÉÉ
G34: ¶ÉÉºÉxÉ / ¨É½þÉ¨ÉÆb÷³ý
G35: |ÉEò±{ÉÉSÉÉ |ÉEòÉ®ú | I35: ºÉÆJªÉÉ | K35: BEÖòhÉ ={ÉªÉÖCiÉ ={É±É¤vÉ ºÉÉ`öÉ (nù.±É.PÉ.¨ÉÒ.) | M35: BEÖòhÉ ]õCEäò´ÉÉ®úÒ
G37: ¨ÉÉä`äö |ÉEò±{É | I37: 3 | K37: =+G13 -> 189.219 | M37: =+H13 -> 77.573887
G38: ¨ÉvªÉ¨É |ÉEò±{É | I38: 7 | K38: =+G23 -> 102.36 | M38: =+H23 -> 72.242219
G39: ±ÉPÉÖ |ÉEò±{É | I39: 81 | K39: =+G24+G25 -> #REF! | M39: 56.17
G40: BEÖòhÉ | I40: 91 | K40: =+K37+K38+K39 -> #REF! | M40: =+H26 -> #REF!
D42: MÉÉä¹É´ÉÉ®úÉ
D43: ¶ÉÉºÉxÉ | K43: ¨É½þÉ¨ÉÆb÷³ý | O43: BEÖòhÉ ¤ÉÖ±Éb÷ÉhÉÉ ÊVÉ±½þÉ
D44: ]õCEäò´ÉÉ®úÒ | G44: ¨ÉÉä`äö | H44: ¨ÉvªÉ¨É | I44: ±É.{ÉÉ. | J44: BEÖòhÉ | K44: ¨ÉÉä`äö | L44: ¨ÉvªÉ¨É | M44: ±É.{ÉÉ. | N44: BEÖòhÉ | O44: ¨ÉÉä`äö | P44: ¨ÉvªÉ¨É | Q44: ±É.{ÉÉ. | R44: BEÖòhÉ
D45: 100 ]õCEäò ¦É®ú±Éä±Éä |ÉEò±{É | G45: 0 | H45: 2 | I45: 6 | J45: =+I45+H45+G45 -> 8 | K45: 1 | L45: 0 | M45: 0 | N45: =+M45+L45+K45 -> 1 | O45: =+K45+G45 -> 1 | P45: =+L45+H45 -> 2 | Q45: =+M45+I45 -> 6 | R45: =+N45+J45 -> 9
D46: 50 ]õCEäò {ÉäIÉÉ VÉÉºiÉ | G46: 1 | H46: 2 | I46: 37 | J46: =+I46+H46+G46 -> 40 | K46: 1 | L46: 2 | M46: 6 | N46: =+M46+L46+K46 -> 9 | O46: =+K46+G46 -> 2 | P46: =+L46+H46 -> 4 | Q46: =+M46+I46 -> 43 | R46: =+N46+J46 -> 49
D47: 50 ]õCEäò {ÉäIÉÉ Eò¨ÉÒ | G47: 0 | H47: 0 | I47: 31 | J47: =+I47+H47+G47 -> 31 | K47: 0 | L47: 1 | M47: 1 | N47: =+M47+L47+K47 -> 2 | O47: =+K47+G47 -> 0 | P47: =+L47+H47 -> 1 | Q47: =+M47+I47 -> 32 | R47: =+N47+J47 -> 33
D48: BEÖòhÉ | G48: =SUM(G45:G47) -> 1 | H48: =SUM(H45:H47) -> 4 | I48: =SUM(I45:I47) -> 74 | J48: =+I48+H48+G48 -> 79 | K48: =SUM(K45:K47) -> 2 | L48: =SUM(L45:L47) -> 3 | M48: =SUM(M45:M47) -> 7 | N48: =+M48+L48+K48 -> 12 | O48: =+K48+G48 -> 3 | P48: =+L48+H48 -> 7 | Q48: =+M48+I48 -> 81 | R48: =+N48+J48 -> 91
C181: ¤ÉÖ±Éb÷ÉhÉÉ {ÉÉ]õ¤ÉÆvÉÉ®äú Ê´É¦ÉÉMÉ, ¤ÉÖ±Éb÷ÉhÉÉ
C182: |É{ÉjÉ -1 ´É 2 ( nèùÊxÉEò ´É ºÉÉ{iÉÉÊ½þEò ) MÉÉä¹É´ÉÉ®úÉ .
C183: +¨É®úÉ´ÉiÉÒ |ÉÉnäùÊ¶ÉEò Ê´É¦ÉÉMÉÉiÉÒ±É ( ¶ÉÉºÉxÉ ´É ¨É½þÉ¨ÉÆb÷³ýÉEòb÷Ò±É) ¨ÉÉä`äö, ¨ÉvªÉ¨É ´É ±ÉPÉÖ {ÉÉ]õ¤ÉÆvÉÉ®äú |ÉEò±{ÉÉÆSÉÉ ÊnùxÉÉÆE 22 /8/2014 SÉÉ ={ÉªÉÖCiÉ ºÉÉ`öÉ.
C184: |ÉEò±{ÉÒªÉ ¨ÉÞiÉºÉÉ`öÉ nù.±É.PÉ.¨ÉÒ. | D184: + Gò | E184: |ÉEò±{ÉÉSÉäÆ xÉÉÆ´É | F184: iÉÉ±ÉÖEòÉ | G184: ={ÉªÉÖCiÉºÉÉ`öÉ nù.±É.PÉ.¨ÉÒ (2014) | K184: +ÉVÉSÉÉ {ÉÉ>ðºÉ Ê¨É.Ê¨É. | L184: 1/6/14 {ÉÉºÉÚxÉSÉÉ {ÉÉ>ðºÉ Ê¨É.Ê¨É. | M184: ¨ÉÉMÉÒ±É ´É¹ÉÉÇSÉÒ iªÉÉSÉ ËnùxÉÉEòÉSÉÒ ¨ÉÉÊ½þiÉÒ (2013) | P184: ªÉÉSÉ ÊnùxÉÆÉEòÉSÉÉ JÉÉ±ÉÒ±É ´É¹ÉÉÇiÉÒ±É ={ÉªÉÖCiÉ {ÉÉhÉÒºÉÉ`öÉ nù.±É.PÉ.¨ÉÒ | T184: ºÉ®úÉºÉ®úÒ ={ÉªÉÖCiÉ ºÉÉ`öÉ (09iÉä 13) | U184: Ê´ÉºÉMÉÇ PÉ.Ê¨É/ ºÉäEÆònù
G185: |ÉEò±{ÉÒªÉ ºÉÆEò±{ÉÒiÉ ºÉÉ`öÉ | H185: +ÉVÉSÉÒ VÉ±ÉÉ¶ÉªÉ {ÉÉiÉ³ýÒ ¨ÉÒ. | I185: +ÉVÉSÉÉ {ÉÉhÉÒ ºÉÉ`öÉ | J185: ]õCEäò´ÉÉ®úÒ (6/4) x 100
M186: 1-6-13 {ÉÉºÉÚxÉSÉÉ {ÉÉ>ðºÉ Ê¨É.Ê¨É. | N186: ={ÉªÉÖCiÉ {ÉÉhÉÒºÉÉ`öÉ | O186: ]õCEäò´ÉÉ®úÒ | P186: 2009 | Q186: 2010 | R186: 2011 | S186: 2012
D187: 1 | E187: 2 | F187: 3 | G187: 4 | H187: 5 | I187: 6 | J187: 7 | K187: 8 | L187: 9 | M187: 10 | N187: 11 | O187: 12 | P187: 13 | Q187: 14 | R187: 15 | S187: 16 | T187: 17 | U187: 18
E188: ¶ÉÉºÉxÉ ºiÉ®úÉ´É®úÒ±É |ÉEò±{É
D189: (+) | E189: ¨ÉÉä`äö |ÉEò±{É
C190: 2.54 | D190: 1 | E190: xÉ³ýMÉÆMÉÉ | F190: ¨ÉÉäiÉÉ³ýÉ | G190: 69.32 | H190: 288.05 | I190: 20.2 | J190: =(I190/G190)*100 -> 29.140219 | K190: 50 | L190: 240 | M190: 764 | N190: 49.09 | O190: =N190/G190*100 -> 70.816503 | P190: 8.71 | Q190: 25.9 | R190: 36.71 | S190: 8.77 | T190: =AVERAGE(+N190+P190+Q190+R190+S190)/5 -> 25.836
C191: 7.38 | D191: 2 | E191: {ÉäxÉ]õÉEò³ýÒ(¨É.¨ÉÆÆý) | F191: ¨Éä½þEò®ú | G191: 59.97 | H191: 553.3 | I191: 16.51 | J191: =(I191/G191)*100 -> 27.530432 | K191: 48 | L191: 296 | M191: 649 | N191: 32.42 | O191: =N191/G191*100 -> 54.060364 | P191: 1.77 | Q191: 22.87 | R191: 38.58 | S191: 0.15 | T191: =AVERAGE(+N191+P191+Q191+R191+S191)/5 -> 19.158
C192: 67.206 | D192: 3 | E192: JÉb÷Eò{ÉÖhÉÇÉ (¨É.¨ÉÆÆý) | F192: nùä.®úÉVÉÉ | G192: 114.631 | H192: 518.15 | I192: 54.25 | J192: =(I192/G192)*100 -> 47.325767 | K192: 0 | L192: 144 | M192: 536 | N192: 88.06 | O192: =N192/G192*100 -> 76.820406 | P192: 52.6 | Q192: 53.6 | R192: 56.47 | S192: 0 | T192: =AVERAGE(+N192+P192+Q192+R192+S192)/5 -> 50.146
C193: =SUM(C190:C192) -> 77.126 | E193: BEÖòhÉ iÉÒxÉ ¨ÉÉä`äö |ÉEò±{É | G193: =SUM(G190:G192) -> 243.921 | H193: 0 | I193: =SUM(I190:I192) -> 90.96 | J193: =(I193/G193)*100 -> 37.290762 | K193: 0 | L193: 0 | M193: 0 | N193: =SUM(N190:N192) -> 169.57 | O193: =N193/G193*100 -> 69.51841 | P193: =SUM(P190:P192) -> 63.08 | Q193: =SUM(Q190:Q192) -> 102.37 | R193: =SUM(R190:R192) -> 131.76 | S193: =SUM(S190:S192) -> 8.92 | T193: =AVERAGE(+N193+P193+Q193+R193+S193)/5 -> 95.14
D194: (¤É) | E194: ¨ÉvªÉ¨É |ÉEò±{É
C195: 1.63 | D195: 1 | E195: {É±ÉføMÉ | F195: ¨ÉÉäiÉÉ³ýÉ | G195: 7.51 | H195: 398.27 | I195: 1.47 | J195: =(I195/G195)*100 -> 19.573901 | K195: 0 | L195: 264 | M195: 824 | N195: 7.51 | O195: =N195/G195*100 -> 100 | P195: 2.85 | Q195: 7.51 | R195: 2.42 | S195: 0 | T195: =AVERAGE(+N195+P195+Q195+R195+S195)/5 -> 4.058
C196: 2.33 | D196: 2 | E196: YÉÉÆxÉMÉÆMÉÉ | F196: JÉÉ¨ÉMÉÉÆ´É | G196: 33.93 | H196: 397.25 | I196: 12.74 | J196: =(I196/G196)*100 -> 37.547893 | K196: 7 | L196: 94 | M196: 371 | N196: 32.79 | O196: =N196/G196*100 -> 96.640141 | P196: 4.28 | Q196: 27.58 | R196: 16.04 | S196: 4.28 | T196: =AVERAGE(+N196+P196+Q196+R196+S196)/5 -> 16.994
C197: 2.46 | D197: 3 | E197: ¨ÉºÉ | F197: JÉÉ¨ÉMÉÉÆ´É | G197: 15.04 | H197: 321.2 | I197: 3.85 | J197: =(I197/G197)*100 -> 25.598404 | K197: 12 | L197: 165 | M197: 410 | N197: 15.04 | O197: =N197/G197*100 -> 100 | P197: 2.59 | Q197: 15.04 | R197: 3.05 | S197: 2.7 | T197: =AVERAGE(+N197+P197+Q197+R197+S197)/5 -> 7.684
C198: 7.46 | D198: 4 | E198: EòÉä®úÉb÷Ò | F198: ¨Éä½þEò®ú | G198: 15.12 | H198: 543.3 | I198: 6.54 | J198: =(I198/G198)*100 -> 43.253968 | K198: 11 | L198: 202 | M198: 598 | N198: 15.12 | O198: =N198/G198*100 -> 100 | P198: 0 | Q198: 15.12 | R198: 3.19 | S198: 0 | T198: =AVERAGE(+N198+P198+Q198+R198+S198)/5 -> 6.686
E199: EòÉä.{É.¤É | F199: ¨Éä½þEò®ú | G199: 5.58 | H199: 0 | I199: 0 | J199: =(I199/G199)*100 -> 0 | K199: 0 | L199: 0 | M199: 0 | N199: 0 | O199: =N199/G199*100 -> 0 | P199: 0 | Q199: 0 | R199: 0 | S199: 0 | T199: =AVERAGE(+N199+P199+Q199+R199+S199)/5 -> 0
C200: 5.65 | D200: 5 | E200: ¨ÉxÉ(¨É½þÉ.¨ÉÆý) | F200: JÉÉ¨ÉMÉÉÆ´É | G200: 36.83 | H200: 365.8 | I200: 7.48 | J200: =(I200/G200)*100 -> 20.30953 | K200: 4 | L200: 218 | M200: 684 | N200: 25.02 | O200: =N200/G200*100 -> 67.93375 | P200: 3.37 | Q200: 34.11 | R200: 6.47 | S200: 7.48 | T200: =AVERAGE(+N200+P200+Q200+R200+S200)/5 -> 15.29
C201: 0.58 | D201: 6 | E201: iÉÉä®úhÉÉ(¨É½þÉ.¨ÉÆ ) | F201: JÉÉ¨ÉMÉÉÆ´É | G201: 7.89 | H201: 402.05 | I201: 1.08 | J201: =(I201/G201)*100 -> 13.688213 | K201: 6 | L201: 145 | M201: 669 | N201: 5.67 | O201: =N201/G201*100 -> 71.863118 | P201: 1.7 | Q201: 7.89 | R201: 1.77 | S201: 1.13 | T201: =AVERAGE(+N201+P201+Q201+R201+S201)/5 -> 3.632
C202: 1.01 | D202: 7 | E202: =iÉÉ´É³ýÒ(¨É½þÉ.¨É) | F202: JÉÉ¨ÉMÉÉÆ´É | G202: 19.79 | H202: 363.9 | I202: 3.93 | J202: =(I202/G202)*100 -> 19.858514 | K202: 3 | L202: 303 | M202: 724 | N202: 19.79 | O202: =N202/G202*100 -> 100 | P202: 5.93 | Q202: 19.79 | R202: 2.96 | S202: 3.15 | T202: =AVERAGE(+N202+P202+Q202+R202+S202)/5 -> 10.324
C203: =SUM(C195:C202) -> 21.12 | E203: BEÖòhÉ ¨ÉvªÉ¨É |ÉEò±{É-7 | G203: =SUM(G195:G202) -> 141.69 | H203: 0 | I203: =SUM(I195:I202) -> 37.09 | J203: =(I203/G203)*100 -> 26.176865 | K203: 0 | M203: 0 | N203: =SUM(N195:N202) -> 120.94 | O203: =N203/G203*100 -> 85.355353 | P203: =SUM(P195:P202) -> 20.72 | Q203: =SUM(Q195:Q202) -> 127.04 | R203: =SUM(R195:R202) -> 35.9 | S203: =SUM(S195:S202) -> 18.74 | T203: =AVERAGE(+N203+P203+Q203+R203+S203)/5 -> 64.668
C204: 5.57 | E204: BEÖòhÉ ¨É½þÉ¨ÉÆb÷³ý -7 | G204: =+#REF! -> #REF! | H204: 0 | I204: =+#REF! -> #REF! | J204: =(I204/G204)*100 -> #REF! | K204: 0 | L204: 0 | M204: 0 | N204: =+#REF! -> #REF! | O204: =+#REF! -> #REF! | P204: =+#REF! -> #REF! | Q204: =+#REF! -> #REF! | R204: =+#REF! -> #REF! | S204: =+#REF! -> #REF! | T204: =+#REF! -> #REF!
C205: 15.32 | D205: BEÖòhÉ ±ÉPÉÖ |ÉEò±{É 74 (¶ÉÉºÉxÉ) | G205: =+#REF! -> #REF! | H205: 0 | I205: =+#REF! -> #REF! | J205: =+#REF! -> #REF! | K205: 0 | L205: 0 | M205: 0 | N205: =+#REF! -> #REF! | O205: =+#REF! -> #REF! | P205: =+#REF! -> #REF! | Q205: =+#REF! -> #REF! | R205: =+#REF! -> #REF! | S205: =+#REF! -> #REF! | T205: =+#REF! -> #REF!
C206: =(C205+C204+C203+C193) -> 119.136 | D206: BEÖòhÉ ¤ÉÖ±Éb÷ÉhÉÉ ÊVÉ±½þÉ- 91 | G206: =G193+G203+G204+G205 -> #REF! | H206: =H193+H203+H204+H205 -> 0 | I206: =I193+I203+I204+I205 -> #REF! | J206: =(I206/G206)*100 -> #REF! | K206: 0 | L206: =(+L190+L191+L192+L195+L196+L197+L198+L200+L201+L202)/10 -> 207.1 | M206: =(+M190+M191+M192+M195+M196+M197+M198+M200+M201+M202)/10 -> 622.9 | N206: =N193+N203+N204+N205 -> #REF! | O206: =N206/G206*100 -> #REF! | P206: =P193+P203+P204+P205 -> #REF! | Q206: =Q193+Q203+Q204+Q205 -> #REF! | R206: =R193+R203+R204+R205 -> #REF! | S206: =S193+S203+S204+S205 -> #REF! | T206: =AVERAGE(+N206+P206+Q206+R206+S206)/5 -> #REF!
E207: VÉÉ.Gò./4410/VÉ{ÉÉ+/ºÉÉ.+./2013 | R207: ¤ÉÖ±Éb÷ÉhÉÉ {ÉÉ]õ¤ÉÆvÉÉ®äú Ê´É¦ÉÉMÉ,¤ÉÖ±Éb÷ÉhÉÉ
E208: |ÉÊiÉ±ÉÒ{ÉÒ 1) ¨ÉÉ.¨ÉÖJªÉ +Ê¦ÉªÉÆiÉÉ VÉ±ÉºÉÆ{ÉnùÉ,Ê´É¦ÉÉMÉ, +¨É®úÉ´ÉiÉÒ, 2)¨ÉÉ.¨ÉÖJªÉ +Ë¦ÉªÉÆiÉÉ,Ê´É¶Éä¹É |ÉEò±{É VÉ±ÉºÉÆ{ÉnùÉ Ê´É¦ÉÉMÉ,ËºÉSÉxÉ ºÉä´ÉÉ ¦É´ÉxÉ,Ê¶É´ÉÉVÉÒ xÉMÉ®ú,+¨É®úÉ´ÉiÉÒ | R208: ÊnùxÉÉÆEò 22/08/2014
E209: 3)¨ÉÉ.+vÉÒIÉEò +Ê¦ÉªÉÆiÉÉ +EòÉä±ÉÉ /¤ÉÖ±Éb÷ÉhÉÉ, 4)ÊVÉ±½þÉÊvÉEòÉ®úÒ ({ÉÉhÉÒ ]ÆõSÉÉ<Ç Ê´É¦ÉÉMÉ ¤ÉÖ±Éb÷ÉhÉÉ,), 5)ÊVÉ±½þÉ EÞò¹ÉÒ +ÊvÉIÉEò, ¤ÉÖ±Éb÷ÉhÉÉ,
E210: 6)ÊVÉ±½þÉ ¨ÉiºªÉ +ÊvÉEòÉ®úÒ, ¤ÉÖ±Éb÷ÉhÉÉ, 7) EòÉªÉÇEòÉ®úÒ +Ê¦ÉªÉÆiÉÉ, ¨É.ÊVÉ.|ÉÉvÉÒEò®úhÉ ¤ÉÉÆvÉEòÉ¨É Ê´É¦ÉÉMÉ ¤ÉÖ±Éb÷ÉhÉÉ, 8) ¨É½þÉ®úÉ¹]Åõ VÉ±ÉºÉÆ{ÉkÉÒ Ê´ÉEòÉºÉ Eäòpù +Éè®ÆúMÉÉ¤ÉÉnù
E211: 9)ÊVÉ±½þÉ ¨ÉÉÊ½þiÉÒ +ÊvÉEòÉ®úÒ ¤ÉÖ±Éb÷ÉhÉÉ. ªÉÉÆxÉÉ ¨ÉÉÊ½þiÉÒºiÉ´É ºÉÉnù®ú/ ºÉ¨ÉÉnù®úÉxÉä +OÉäÊ¹ÉiÉ. 10)ËºÉSÉxÉ ¶ÉÉJÉÉ Ê´É¦ÉÉMÉÒªÉ EòÉªÉÉÇ±ÉªÉ.
S212: EòÉªÉÇEòÉ®úÒ +Ê¦ÉªÉÆiÉÉ
I213: MÉÉä¹É´ÉÉ®úÉ | S213: ¤ÉÖ±Éb÷ÉhÉÉ {ÉÉ]õ¤ÉÆvÉÉ®äú Ê´É¦ÉÉMÉ ¤ÉÖ±Éb÷ÉhÉÉ
